BEGIN:VCALENDAR
VERSION:2.0
PRODID:-//Southeast Idaho High Country - ECPv6.15.20//NONSGML v1.0//EN
CALSCALE:GREGORIAN
METHOD:PUBLISH
X-WR-CALNAME:Southeast Idaho High Country
X-ORIGINAL-URL:https://idahohighcountry.org
X-WR-CALDESC:Events for Southeast Idaho High Country
REFRESH-INTERVAL;VALUE=DURATION:PT1H
X-Robots-Tag:noindex
X-PUBLISHED-TTL:PT1H
BEGIN:VTIMEZONE
TZID:America/Denver
BEGIN:DAYLIGHT
TZOFFSETFROM:-0700
TZOFFSETTO:-0600
TZNAME:MDT
DTSTART:20240310T090000
END:DAYLIGHT
BEGIN:STANDARD
TZOFFSETFROM:-0600
TZOFFSETTO:-0700
TZNAME:MST
DTSTART:20241103T080000
END:STANDARD
BEGIN:DAYLIGHT
TZOFFSETFROM:-0700
TZOFFSETTO:-0600
TZNAME:MDT
DTSTART:20250309T090000
END:DAYLIGHT
BEGIN:STANDARD
TZOFFSETFROM:-0600
TZOFFSETTO:-0700
TZNAME:MST
DTSTART:20251102T080000
END:STANDARD
BEGIN:DAYLIGHT
TZOFFSETFROM:-0700
TZOFFSETTO:-0600
TZNAME:MDT
DTSTART:20260308T090000
END:DAYLIGHT
BEGIN:STANDARD
TZOFFSETFROM:-0600
TZOFFSETTO:-0700
TZNAME:MST
DTSTART:20261101T080000
END:STANDARD
END:VTIMEZONE
BEGIN:VEVENT
DTSTART;VALUE=DATE:20251004
DTEND;VALUE=DATE:20251101
DTSTAMP:20260424T020600
CREATED:20220331T004754Z
LAST-MODIFIED:20250203T185554Z
UID:10000215-1759536000-1761955199@idahohighcountry.org
SUMMARY:Haunted History Walking Tours
DESCRIPTION:Visit haunted buildings in Pocatello Idaho. Go inside to learn more about the history of the building and experience for yourself any haunted activity taking place. Weekends only. Find tour dates and times on Historic Downtown Pocatello’s website.
URL:https://idahohighcountry.org/event/haunted-history-walking-tours/
LOCATION:Historic Downtown Pocatello\, 420 N. Main Street\, Pocatello\, ID\, 83204\, United States
CATEGORIES:Fall & Halloween,Family Fun,Holiday Celebrations
ATTACH;FMTTYPE=image/jpeg:https://idahohighcountry.org/wp-content/uploads/haunted-history-walking-tours-pocatello-idaho.jpg
GEO:42.8648027;-112.4532315
X-APPLE-STRUCTURED-LOCATION;VALUE=URI;X-ADDRESS=Historic Downtown Pocatello 420 N. Main Street Pocatello ID 83204 United States;X-APPLE-RADIUS=500;X-TITLE=420 N. Main Street:geo:-112.4532315,42.8648027
END:VEVENT
BEGIN:VEVENT
DTSTART;TZID=America/Denver:20251004T090000
DTEND;TZID=America/Denver:20251004T140000
DTSTAMP:20260424T020600
CREATED:20220331T004754Z
LAST-MODIFIED:20260211T202809Z
UID:10000406-1759568400-1759586400@idahohighcountry.org
SUMMARY:Downtown's Great Pumpkin Festival
DESCRIPTION:This festival on Historic Downtown Pocatello’s Main Street will feature the Portneuf Valley Farmers Market\, face painting\, apple pie baking contest\, pumpkin carving contest\, antiques\, crafts\, jewelry\, food\, music and more. Come celebrate fall and the coming holidays.
URL:https://idahohighcountry.org/event/the-great-pumpkin-festival/
LOCATION:Historic Downtown Pocatello\, 100 S Main St\, Pocatello\, ID\, 83201\, United States
CATEGORIES:Arts & Crafts Shows,Fairs & Festivals,Fall & Halloween,Family Fun,Holiday Celebrations
ATTACH;FMTTYPE=image/jpeg:https://idahohighcountry.org/wp-content/uploads/great-pumpkin-festival-FZlixD.tmp_.jpg
GEO:42.8620966;-112.4506102
X-APPLE-STRUCTURED-LOCATION;VALUE=URI;X-ADDRESS=Historic Downtown Pocatello 100 S Main St Pocatello ID 83201 United States;X-APPLE-RADIUS=500;X-TITLE=100 S Main St:geo:-112.4506102,42.8620966
END:VEVENT
BEGIN:VEVENT
DTSTART;TZID=America/Denver:20251025T100000
DTEND;TZID=America/Denver:20251025T140000
DTSTAMP:20260424T020600
CREATED:20190929T003800Z
LAST-MODIFIED:20250812T232524Z
UID:10000358-1761386400-1761400800@idahohighcountry.org
SUMMARY:Halloween Festival by SRD
DESCRIPTION:This is a Free Entry Trick or Treat party with a fun & Unique Halloween Market. Costume Contests\, Cake Walks\, Music\, Coloring Contest\, Cookie Decorating\, hot dog eating contest\, Balloon Twisting\, Face Painter\, SRD’s Reptile Experience\, and more. Come enjoy this One-of-a-Kind Family Friendly Halloween Event held inside the Elk’s Lodge in Pocatello. FREE entry! See their Facebook Page for details.
URL:https://idahohighcountry.org/event/halloween-festival-by-srdpettingzoo/
LOCATION:Elks Lodge Pocatello\, 410 S Main St\, Pocatello\, ID\, 83201\, United States
CATEGORIES:Fall & Halloween,Family Fun,Holiday Celebrations
ATTACH;FMTTYPE=image/jpeg:https://idahohighcountry.org/wp-content/uploads/halloween-festival-srd-pocatello-idaho.jpg
END:VEVENT
BEGIN:VEVENT
DTSTART;TZID=America/Denver:20251025T120000
DTEND;TZID=America/Denver:20251025T190000
DTSTAMP:20260424T020600
CREATED:20231020T225437Z
LAST-MODIFIED:20250926T225607Z
UID:10000858-1761393600-1761418800@idahohighcountry.org
SUMMARY:Witches and Warlock Night Out
DESCRIPTION:Calling all Witches and Warlocks to the Lava Hot Springs Halloween Party and Parade! \nCome in your best costume for the Costume Contest. Free Kids Crafts and Games and treats for the kids. Trick or Treating down Main Street.
URL:https://idahohighcountry.org/event/witches-and-warlock-night-out/
LOCATION:Blue Jay Inn\, 189 Main St.\, Lava Hot Springs\, 83246\, United States
CATEGORIES:Holiday Celebrations
ATTACH;FMTTYPE=image/jpeg:https://idahohighcountry.org/wp-content/uploads/witches-warlocks-halloween-lava-hot-springs.jpg
END:VEVENT
BEGIN:VEVENT
DTSTART;TZID=America/Denver:20251025T150000
DTEND;TZID=America/Denver:20251025T210000
DTSTAMP:20260424T020600
CREATED:20160924T184338Z
LAST-MODIFIED:20251003T183731Z
UID:10000012-1761404400-1761426000@idahohighcountry.org
SUMMARY:Downata Hot Springs Halloween Party
DESCRIPTION:Downata Hot Springs Spook-takular Halloween Happenings! Halloween games\, pool pass included. Ages 3 to 12 years old. Advanced tickets required. \n\n \n\n 
URL:https://idahohighcountry.org/event/downata-hot-springs-halloween-party/
LOCATION:Downata Hot Springs\, 25900 S Downata Rd\, Downey\, ID\, 83234\, United States
CATEGORIES:Fall & Halloween,Family Fun,Holiday Celebrations
ATTACH;FMTTYPE=image/jpeg:https://idahohighcountry.org/wp-content/uploads/downata-halloween-party.jpg
GEO:42.389615;-112.087207
X-APPLE-STRUCTURED-LOCATION;VALUE=URI;X-ADDRESS=Downata Hot Springs 25900 S Downata Rd Downey ID 83234 United States;X-APPLE-RADIUS=500;X-TITLE=25900 S Downata Rd:geo:-112.087207,42.389615
END:VEVENT
BEGIN:VEVENT
DTSTART;TZID=America/Denver:20251031T150000
DTEND;TZID=America/Denver:20251031T173000
DTSTAMP:20260424T020600
CREATED:20160723T235230Z
LAST-MODIFIED:20251010T202421Z
UID:10000018-1761922800-1761931800@idahohighcountry.org
SUMMARY:Trick-or-Treat Historic Downtown Pocatello
DESCRIPTION:Bring your children down for a safe Halloween afternoon as the Historic Downtown merchants and businesses open their doors and hand out candy and treats to all visiting ghosts and goblins.
URL:https://idahohighcountry.org/event/trick-treat-old-town-streets/
LOCATION:Historic Downtown Pocatello\, 100 S Main St\, Pocatello\, ID\, 83201\, United States
CATEGORIES:Fall & Halloween,Family Fun,Holiday Celebrations
ATTACH;FMTTYPE=image/jpeg:https://idahohighcountry.org/wp-content/uploads/trick-or-treat-downtown-pocatello.jpg
GEO:42.8620966;-112.4506102
X-APPLE-STRUCTURED-LOCATION;VALUE=URI;X-ADDRESS=Historic Downtown Pocatello 100 S Main St Pocatello ID 83201 United States;X-APPLE-RADIUS=500;X-TITLE=100 S Main St:geo:-112.4506102,42.8620966
END:VEVENT
BEGIN:VEVENT
DTSTART;TZID=America/Denver:20251031T170000
DTEND;TZID=America/Denver:20251031T200000
DTSTAMP:20260424T020600
CREATED:20251003T191342Z
LAST-MODIFIED:20251003T193211Z
UID:10000976-1761930000-1761940800@idahohighcountry.org
SUMMARY:Downata Halloween Soak & Dinner Party
DESCRIPTION:Smurf Soak & Spaghetti Dinner at Downata Hot Springs!\nSmurf Soak – Enjoy relaxing time in the warm hot springs p0ols.\nSmurf Dinner – Delicious spaghetti with garlic bread & beverage.\nSmurf movie – Float\, soak\, and watch a Smurf Adventure on the big screen.\nReservations required at https://www.downatahotsprings.com/events.  \n\n \n\n 
URL:https://idahohighcountry.org/event/downata-hot-springs-halloween-dinner/
LOCATION:Downata Hot Springs\, 25900 S Downata Rd\, Downey\, ID\, 83234\, United States
CATEGORIES:Fall & Halloween,Family Fun,Holiday Celebrations
ATTACH;FMTTYPE=image/jpeg:https://idahohighcountry.org/wp-content/uploads/downata-halloween-dinner.jpg
GEO:42.389615;-112.087207
X-APPLE-STRUCTURED-LOCATION;VALUE=URI;X-ADDRESS=Downata Hot Springs 25900 S Downata Rd Downey ID 83234 United States;X-APPLE-RADIUS=500;X-TITLE=25900 S Downata Rd:geo:-112.087207,42.389615
END:VEVENT
END:VCALENDAR