BEGIN:VCALENDAR
VERSION:2.0
PRODID:-//Southeast Idaho High Country - ECPv6.15.20//NONSGML v1.0//EN
CALSCALE:GREGORIAN
METHOD:PUBLISH
X-ORIGINAL-URL:https://idahohighcountry.org
X-WR-CALDESC:Events for Southeast Idaho High Country
REFRESH-INTERVAL;VALUE=DURATION:PT1H
X-Robots-Tag:noindex
X-PUBLISHED-TTL:PT1H
BEGIN:VTIMEZONE
TZID:America/Denver
BEGIN:DAYLIGHT
TZOFFSETFROM:-0700
TZOFFSETTO:-0600
TZNAME:MDT
DTSTART:20250309T090000
END:DAYLIGHT
BEGIN:STANDARD
TZOFFSETFROM:-0600
TZOFFSETTO:-0700
TZNAME:MST
DTSTART:20251102T080000
END:STANDARD
BEGIN:DAYLIGHT
TZOFFSETFROM:-0700
TZOFFSETTO:-0600
TZNAME:MDT
DTSTART:20260308T090000
END:DAYLIGHT
BEGIN:STANDARD
TZOFFSETFROM:-0600
TZOFFSETTO:-0700
TZNAME:MST
DTSTART:20261101T080000
END:STANDARD
BEGIN:DAYLIGHT
TZOFFSETFROM:-0700
TZOFFSETTO:-0600
TZNAME:MDT
DTSTART:20270314T090000
END:DAYLIGHT
BEGIN:STANDARD
TZOFFSETFROM:-0600
TZOFFSETTO:-0700
TZNAME:MST
DTSTART:20271107T080000
END:STANDARD
END:VTIMEZONE
BEGIN:VEVENT
DTSTART;VALUE=DATE:20260523
DTEND;VALUE=DATE:20260526
DTSTAMP:20260423T153222
CREATED:20170501T151724Z
LAST-MODIFIED:20260304T070658Z
UID:10000214-1779494400-1779753599@idahohighcountry.org
SUMMARY:Chesterfield Memorial Day Celebration
DESCRIPTION:Enjoy fun\, educational activities like taking that slow\, bumpy wagon ride pulled by those big\, beautiful horses. See butter making\, rope making\, prairie diamond rings\, vintage sewing machine display\, dolls\, hats and aprons. Candy and ice cream available at the Brick Store and home-baked goodies in the Amusement Hall. \nDance on Saturday night at 8:00 pm at the Amusement Hall with a Live Band. \nView their website for times and details.
URL:https://idahohighcountry.org/event/chesterfield-townsite-memorial-day-celebration/
LOCATION:Chesterfield Townsite\, 3123 Chesterfield Rd\, Bancroft\, ID\, 83217\, United States
CATEGORIES:Family Fun,Holiday Celebrations
ATTACH;FMTTYPE=image/jpeg:https://idahohighcountry.org/wp-content/uploads/memorial-day-celebration-chesterfield-idaho.jpg
GEO:42.8709501;-111.906734
X-APPLE-STRUCTURED-LOCATION;VALUE=URI;X-ADDRESS=Chesterfield Townsite 3123 Chesterfield Rd Bancroft ID 83217 United States;X-APPLE-RADIUS=500;X-TITLE=3123 Chesterfield Rd:geo:-111.906734,42.8709501
END:VEVENT
BEGIN:VEVENT
DTSTART;VALUE=DATE:20260704
DTEND;VALUE=DATE:20260705
DTSTAMP:20260423T153222
CREATED:20160309T065227Z
LAST-MODIFIED:20260304T065400Z
UID:10000033-1783123200-1783209599@idahohighcountry.org
SUMMARY:Bannock Independence Day
DESCRIPTION:Bannock Independence Day Celebration includes Fireworks & Drone Show\, beach party\, car show\, kids games\, bouncy houses\, a water feature\, live music\, face painting\, food vendors and more at the Bannock County Events Center. 
URL:https://idahohighcountry.org/event/bannock-county-independence-day/
LOCATION:Bannock County Event Center\, 10588 Fairground Dr\, Pocatello\, ID\, 83201\, United States
CATEGORIES:Fairs & Festivals,Family Fun,Holiday Celebrations
ATTACH;FMTTYPE=image/jpeg:https://idahohighcountry.org/wp-content/uploads/bannock-county-independence-celebration.jpg
GEO:42.9142845;-112.4336284
X-APPLE-STRUCTURED-LOCATION;VALUE=URI;X-ADDRESS=Bannock County Event Center 10588 Fairground Dr Pocatello ID 83201 United States;X-APPLE-RADIUS=500;X-TITLE=10588 Fairground Dr:geo:-112.4336284,42.9142845
END:VEVENT
BEGIN:VEVENT
DTSTART;VALUE=DATE:20260704
DTEND;VALUE=DATE:20260705
DTSTAMP:20260423T153222
CREATED:20170527T001520Z
LAST-MODIFIED:20260325T003316Z
UID:10000225-1783123200-1783209599@idahohighcountry.org
SUMMARY:Paris 4th of July Celebration
DESCRIPTION:Celebrate Independence Day in Paris Idaho with 2 days of fun! Chuckwagon Breakfast\, Paris Tabernacle Patriotic Pageant\, Independence Day Parade and Youth Rodeo.  \nVisit the Paris Fairgrounds website for flyers and details. \nSee event schedule and details on Bearlake.org.
URL:https://idahohighcountry.org/event/paris-4th-july-celebration/
LOCATION:Paris\, Idaho\, 1 N Main St\, Paris\, ID\, 83261\, United States
CATEGORIES:Family Fun,Holiday Celebrations,Parades
ATTACH;FMTTYPE=image/jpeg:https://idahohighcountry.org/wp-content/uploads/paris-idaho-4th-of-July-celebration.jpg
GEO:42.2269821;-111.4010239
X-APPLE-STRUCTURED-LOCATION;VALUE=URI;X-ADDRESS=Paris Idaho 1 N Main St Paris ID 83261 United States;X-APPLE-RADIUS=500;X-TITLE=1 N Main St:geo:-111.4010239,42.2269821
END:VEVENT
BEGIN:VEVENT
DTSTART;VALUE=DATE:20260704
DTEND;VALUE=DATE:20260705
DTSTAMP:20260423T153222
CREATED:20170609T041442Z
LAST-MODIFIED:20260304T221228Z
UID:10000227-1783123200-1783209599@idahohighcountry.org
SUMMARY:Malad Independence Day
DESCRIPTION:Early Bird Breakfast\, Street Dance on Main Street\, Cannonade\, Fun Run\, Parade\, Shoot Out\, Kids Races Fireworks and at the fair grounds.
URL:https://idahohighcountry.org/event/malad-independence-day-celebration/
LOCATION:Malad City\, N Main St\, Malad\, ID\, 83252\, United States
CATEGORIES:Fairs & Festivals,Family Fun,Holiday Celebrations,Parades
ATTACH;FMTTYPE=image/jpeg:https://idahohighcountry.org/wp-content/uploads/malad-independence-day.jpg
GEO:42.1908266;-112.2451324
X-APPLE-STRUCTURED-LOCATION;VALUE=URI;X-ADDRESS=Malad City N Main St Malad ID 83252 United States;X-APPLE-RADIUS=500;X-TITLE=N Main St:geo:-112.2451324,42.1908266
END:VEVENT
BEGIN:VEVENT
DTSTART;TZID=America/Denver:20260704T093000
DTEND;TZID=America/Denver:20260704T123000
DTSTAMP:20260423T153222
CREATED:20220331T004750Z
LAST-MODIFIED:20260304T065551Z
UID:10000395-1783157400-1783168200@idahohighcountry.org
SUMMARY:Pocatello 4th of July Parade
DESCRIPTION:Celebrate America at the Pocatello 4th of July Parade! The parade will start at 9:30am. The route goes down Main Street through Historic Downtown Pocatello.
URL:https://idahohighcountry.org/event/pocatello-4th-of-july-parade/
LOCATION:Historic Downtown Pocatello\, 100 S Main St\, Pocatello\, ID\, 83201\, United States
CATEGORIES:Holiday Celebrations,Parades
ATTACH;FMTTYPE=image/jpeg:https://idahohighcountry.org/wp-content/uploads/pocatello-parade-QZN7f0.tmp_.jpg
GEO:42.8620966;-112.4506102
X-APPLE-STRUCTURED-LOCATION;VALUE=URI;X-ADDRESS=Historic Downtown Pocatello 100 S Main St Pocatello ID 83201 United States;X-APPLE-RADIUS=500;X-TITLE=100 S Main St:geo:-112.4506102,42.8620966
END:VEVENT
BEGIN:VEVENT
DTSTART;TZID=America/Denver:20260704T200000
DTEND;TZID=America/Denver:20260704T220000
DTSTAMP:20260423T153222
CREATED:20220331T004751Z
LAST-MODIFIED:20260304T222234Z
UID:10000396-1783195200-1783202400@idahohighcountry.org
SUMMARY:Lava 4th Of July Fireworks
DESCRIPTION:Enjoy Lava Hot Springs 4th of July Fireworks & Great American Duck Race! Starts at dusk. View from anywhere in the downtown Lava area with a view of the North mountain.  
URL:https://idahohighcountry.org/event/lava-independence-day-fireworks/
LOCATION:Lava Hot Springs Community Center\, 150 N Center\, Lava Hot Springs\, ID\, 83246\, United States
CATEGORIES:Holiday Celebrations
ATTACH;FMTTYPE=image/jpeg:https://idahohighcountry.org/wp-content/uploads/lava-hot-springs-4th-fireworks-duck-race.jpg
GEO:42.6207589;-112.0113493
X-APPLE-STRUCTURED-LOCATION;VALUE=URI;X-ADDRESS=Lava Hot Springs Community Center 150 N Center Lava Hot Springs ID 83246 United States;X-APPLE-RADIUS=500;X-TITLE=150 N Center:geo:-112.0113493,42.6207589
END:VEVENT
BEGIN:VEVENT
DTSTART;TZID=America/Denver:20261031T100000
DTEND;TZID=America/Denver:20261031T150000
DTSTAMP:20260423T153222
CREATED:20160721T211800Z
LAST-MODIFIED:20260304T071803Z
UID:10000108-1793440800-1793458800@idahohighcountry.org
SUMMARY:Zoo Boo
DESCRIPTION:Put on your Halloween costumes and come to the Zoo for trick or treating\, costume contests\, games\, crafts\, and more! Dress to impress and enter their costume contest with prizes! This is a not-so-spooky\, safe trick-or-treating atmosphere.
URL:https://idahohighcountry.org/event/zoo-boo/
LOCATION:Zoo Idaho\, 2900 South 2nd Avenue\, Pocatello\, ID\, 83204\, United States
CATEGORIES:Fall & Halloween,Family Fun,Holiday Celebrations
ATTACH;FMTTYPE=image/jpeg:https://idahohighcountry.org/wp-content/uploads/zoo-idaho-zoo-boo-pocatello.jpg
GEO:42.8423354;-112.4223623
X-APPLE-STRUCTURED-LOCATION;VALUE=URI;X-ADDRESS=Zoo Idaho 2900 South 2nd Avenue Pocatello ID 83204 United States;X-APPLE-RADIUS=500;X-TITLE=2900 South 2nd Avenue:geo:-112.4223623,42.8423354
END:VEVENT
BEGIN:VEVENT
DTSTART;VALUE=DATE:20261111
DTEND;VALUE=DATE:20261112
DTSTAMP:20260423T153222
CREATED:20160723T211859Z
LAST-MODIFIED:20260406T193825Z
UID:10000115-1794355200-1794441599@idahohighcountry.org
SUMMARY:Veterans Day at Lava Hot Springs
DESCRIPTION:The Lava Hot Springs Foundation would like to thank all Veterans who have served our country to protect our freedom! All Veterans get FREE admission all day on November 11th to the World Famous Hot Springs at 430 E. Main from 9:00am – 10:00pm. Thank You for your service!
URL:https://idahohighcountry.org/event/veterans-day-lava-hot-springs/
LOCATION:Lava Hot Springs Hot Pools\, 430 East Main\, Lava Hot Springs\, ID\, 83246\, United States
CATEGORIES:Holiday Celebrations,Leisure
ATTACH;FMTTYPE=image/jpeg:https://idahohighcountry.org/wp-content/uploads/lava-hot-springs-free-veterans-day.jpg
GEO:42.61921;-112.006574
X-APPLE-STRUCTURED-LOCATION;VALUE=URI;X-ADDRESS=Lava Hot Springs Hot Pools 430 East Main Lava Hot Springs ID 83246 United States;X-APPLE-RADIUS=500;X-TITLE=430 East Main:geo:-112.006574,42.61921
END:VEVENT
END:VCALENDAR