BEGIN:VCALENDAR
VERSION:2.0
PRODID:-//Southeast Idaho High Country - ECPv6.15.20//NONSGML v1.0//EN
CALSCALE:GREGORIAN
METHOD:PUBLISH
X-WR-CALNAME:Southeast Idaho High Country
X-ORIGINAL-URL:https://idahohighcountry.org
X-WR-CALDESC:Events for Southeast Idaho High Country
REFRESH-INTERVAL;VALUE=DURATION:PT1H
X-Robots-Tag:noindex
X-PUBLISHED-TTL:PT1H
BEGIN:VTIMEZONE
TZID:America/Denver
BEGIN:DAYLIGHT
TZOFFSETFROM:-0700
TZOFFSETTO:-0600
TZNAME:MDT
DTSTART:20250309T090000
END:DAYLIGHT
BEGIN:STANDARD
TZOFFSETFROM:-0600
TZOFFSETTO:-0700
TZNAME:MST
DTSTART:20251102T080000
END:STANDARD
BEGIN:DAYLIGHT
TZOFFSETFROM:-0700
TZOFFSETTO:-0600
TZNAME:MDT
DTSTART:20260308T090000
END:DAYLIGHT
BEGIN:STANDARD
TZOFFSETFROM:-0600
TZOFFSETTO:-0700
TZNAME:MST
DTSTART:20261101T080000
END:STANDARD
BEGIN:DAYLIGHT
TZOFFSETFROM:-0700
TZOFFSETTO:-0600
TZNAME:MDT
DTSTART:20270314T090000
END:DAYLIGHT
BEGIN:STANDARD
TZOFFSETFROM:-0600
TZOFFSETTO:-0700
TZNAME:MST
DTSTART:20271107T080000
END:STANDARD
END:VTIMEZONE
BEGIN:VEVENT
DTSTART;VALUE=DATE:20260730
DTEND;VALUE=DATE:20260802
DTSTAMP:20260424T171614
CREATED:20160721T073742Z
LAST-MODIFIED:20260304T223655Z
UID:10000009-1785369600-1785628799@idahohighcountry.org
SUMMARY:That Famous Preston Night Rodeo
DESCRIPTION:Bareback\, Saddle Broncs\, Bull Riding\, Roping\, Steer Wrestling\, Barrel Racing and some great Mutton Busting. City of Fun Carnival rides and Rodeo Days Parade.
URL:https://idahohighcountry.org/event/famous-preston-night-rodeo/
LOCATION:Franklin County Fairgrounds\, 188 W 2nd N\, Preston\, ID\, 83263\, United States
CATEGORIES:Family Fun,Parades,Rodeos
ATTACH;FMTTYPE=image/jpeg:https://idahohighcountry.org/wp-content/uploads/preston-famous-night-rodeo-idaho.jpg
GEO:42.1004879;-111.8817341
X-APPLE-STRUCTURED-LOCATION;VALUE=URI;X-ADDRESS=Franklin County Fairgrounds 188 W 2nd N Preston ID 83263 United States;X-APPLE-RADIUS=500;X-TITLE=188 W 2nd N:geo:-111.8817341,42.1004879
END:VEVENT
BEGIN:VEVENT
DTSTART;VALUE=DATE:20260801
DTEND;VALUE=DATE:20260809
DTSTAMP:20260424T171614
CREATED:20170504T035400Z
LAST-MODIFIED:20260304T225133Z
UID:10000220-1785542400-1786233599@idahohighcountry.org
SUMMARY:Caribou County Fair and Rodeo
DESCRIPTION:Come enjoy our Caribou County Fair Rodeo\, motor sports\, competitions\, entertainment\, 4-H animals and exhibits\, good food\, parades\, and vendors. Caribou County’s PRCA Rodeo is held on the Friday and Saturday night.
URL:https://idahohighcountry.org/event/caribou-county-fair-rodeo/
LOCATION:Caribou County Fairgrounds\, 1st North 1st West\, Grace\, ID\, 83241\, United States
CATEGORIES:Fairs & Festivals,Family Fun,Parades,Rodeos
ATTACH;FMTTYPE=image/jpeg:https://idahohighcountry.org/wp-content/uploads/caribou-county-fair-grace-idaho.jpg
GEO:42.577487;-111.731903
X-APPLE-STRUCTURED-LOCATION;VALUE=URI;X-ADDRESS=Caribou County Fairgrounds 1st North 1st West Grace ID 83241 United States;X-APPLE-RADIUS=500;X-TITLE=1st North 1st West:geo:-111.731903,42.577487
END:VEVENT
BEGIN:VEVENT
DTSTART;VALUE=DATE:20260803
DTEND;VALUE=DATE:20260809
DTSTAMP:20260424T171614
CREATED:20220331T004752Z
LAST-MODIFIED:20260125T183715Z
UID:10000398-1785715200-1786233599@idahohighcountry.org
SUMMARY:Bannock County Fair & Rodeo
DESCRIPTION:The Bannock County Fair in Downey Idaho features fun Rodeos\, Live Concerts\, Parade\, Car Show\, Entertainment\, Horse Pulls\, Motocross\, and Exhibits! The Rodeo is held on Thursday and Friday nights. The Parade is on Wednesday. Car Show is usually on Saturday. Find all the details on the Bannock County Fair/Rodeo Facebook page.
URL:https://idahohighcountry.org/event/bannock-county-fair-rodeo/
LOCATION:Bannock County Fairgrounds Downey\, 269 1st N St\, Downey\, ID\, 83234\, United States
CATEGORIES:Car Shows,Fairs & Festivals,Family Fun,Parades,Rodeos
ATTACH;FMTTYPE=image/jpeg:https://idahohighcountry.org/wp-content/uploads/bannock-county-fair-rodeo-idaho.jpg
GEO:42.4300387;-112.1256776
X-APPLE-STRUCTURED-LOCATION;VALUE=URI;X-ADDRESS=Bannock County Fairgrounds Downey 269 1st N St Downey ID 83234 United States;X-APPLE-RADIUS=500;X-TITLE=269 1st N St:geo:-112.1256776,42.4300387
END:VEVENT
BEGIN:VEVENT
DTSTART;VALUE=DATE:20260806
DTEND;VALUE=DATE:20260810
DTSTAMP:20260424T171614
CREATED:20160720T223118Z
LAST-MODIFIED:20260304T225337Z
UID:10000049-1785974400-1786319999@idahohighcountry.org
SUMMARY:Shoshone Bannock Indian Festival
DESCRIPTION:The Shoshone-Bannock Festival in Fort Hall Idaho is a top-rated powwow complete with traditional Native American dancing\, singing and arts and crafts. Thousands of Native Americans from all over North America compete in singing and dance competitions featuring some of the top dancers and drum groups in North America. \nActivities include the Fort Hall All-Indian Jr/Sr Rodeo\, Miss Shoshone-Bannock Contest\, All-Indian Festival Parade\, Children’s Day Powwow\, Festival Princess Contest\, Traditional Indian Handgames\, Indian Relay Horse Races\, Buffalo and Salmon Feast\, Indian Art Show and many others. Enjoy authentic Native American food and arts and crafts. Tribal elders share words of wisdom about their proud culture. \nThe festival is always held the second weekend in August. Call 208-238-0680 ext. 101 for more information. \nShoshone-Bannock Festival Website  |   Pow Wow Videos
URL:https://idahohighcountry.org/event/shoshone-bannock-indian-festival/
LOCATION:Fort Hall Festival Grounds\, 777 Bannock Trail\, Fort Hall\, ID\, 83203\, United States
CATEGORIES:Arts & Crafts Shows,Fairs & Festivals,Family Fun,Parades,Rodeos
ATTACH;FMTTYPE=image/jpeg:https://idahohighcountry.org/wp-content/uploads/fort-hall-pow-wow-e1655235199853.jpg
GEO:43.0248479;-112.4111208
X-APPLE-STRUCTURED-LOCATION;VALUE=URI;X-ADDRESS=Fort Hall Festival Grounds 777 Bannock Trail Fort Hall ID 83203 United States;X-APPLE-RADIUS=500;X-TITLE=777 Bannock Trail:geo:-112.4111208,43.0248479
END:VEVENT
BEGIN:VEVENT
DTSTART;VALUE=DATE:20260813
DTEND;VALUE=DATE:20260815
DTSTAMP:20260424T171614
CREATED:20160721T020914Z
LAST-MODIFIED:20260304T223953Z
UID:10000085-1786579200-1786751999@idahohighcountry.org
SUMMARY:Oneida Cowboy Classic Rodeo
DESCRIPTION:Bareback\, Saddle Broncs\, Bull Riding\, Roping\, Steer Wrestling\, Barrel Racing\, Mutton Busting and more! Rodeo starts at 7:30pm on Thursday and Friday nights.
URL:https://idahohighcountry.org/event/oneida-cowboy-classic-rodeo/
LOCATION:Oneida County Fair Grounds\, 459 S Main St\, Malad City\, ID\, 83252\, United States
CATEGORIES:Rodeos
ATTACH;FMTTYPE=image/jpeg:https://idahohighcountry.org/wp-content/uploads/oneida-county-cowboy-classic-rodeo-malad-idaho.jpg
GEO:42.1915872;-112.2507986
X-APPLE-STRUCTURED-LOCATION;VALUE=URI;X-ADDRESS=Oneida County Fair Grounds 459 S Main St Malad City ID 83252 United States;X-APPLE-RADIUS=500;X-TITLE=459 S Main St:geo:-112.2507986,42.1915872
END:VEVENT
END:VCALENDAR