BEGIN:VCALENDAR
VERSION:2.0
PRODID:-//Southeast Idaho High Country - ECPv6.15.20//NONSGML v1.0//EN
CALSCALE:GREGORIAN
METHOD:PUBLISH
X-WR-CALNAME:Southeast Idaho High Country
X-ORIGINAL-URL:https://idahohighcountry.org
X-WR-CALDESC:Events for Southeast Idaho High Country
REFRESH-INTERVAL;VALUE=DURATION:PT1H
X-Robots-Tag:noindex
X-PUBLISHED-TTL:PT1H
BEGIN:VTIMEZONE
TZID:America/Denver
BEGIN:DAYLIGHT
TZOFFSETFROM:-0700
TZOFFSETTO:-0600
TZNAME:MDT
DTSTART:20180311T090000
END:DAYLIGHT
BEGIN:STANDARD
TZOFFSETFROM:-0600
TZOFFSETTO:-0700
TZNAME:MST
DTSTART:20181104T080000
END:STANDARD
BEGIN:DAYLIGHT
TZOFFSETFROM:-0700
TZOFFSETTO:-0600
TZNAME:MDT
DTSTART:20190310T090000
END:DAYLIGHT
BEGIN:STANDARD
TZOFFSETFROM:-0600
TZOFFSETTO:-0700
TZNAME:MST
DTSTART:20191103T080000
END:STANDARD
BEGIN:DAYLIGHT
TZOFFSETFROM:-0700
TZOFFSETTO:-0600
TZNAME:MDT
DTSTART:20200308T090000
END:DAYLIGHT
BEGIN:STANDARD
TZOFFSETFROM:-0600
TZOFFSETTO:-0700
TZNAME:MST
DTSTART:20201101T080000
END:STANDARD
BEGIN:DAYLIGHT
TZOFFSETFROM:-0700
TZOFFSETTO:-0600
TZNAME:MDT
DTSTART:20210314T090000
END:DAYLIGHT
BEGIN:STANDARD
TZOFFSETFROM:-0600
TZOFFSETTO:-0700
TZNAME:MST
DTSTART:20211107T080000
END:STANDARD
BEGIN:DAYLIGHT
TZOFFSETFROM:-0700
TZOFFSETTO:-0600
TZNAME:MDT
DTSTART:20220313T090000
END:DAYLIGHT
BEGIN:STANDARD
TZOFFSETFROM:-0600
TZOFFSETTO:-0700
TZNAME:MST
DTSTART:20221106T080000
END:STANDARD
BEGIN:DAYLIGHT
TZOFFSETFROM:-0700
TZOFFSETTO:-0600
TZNAME:MDT
DTSTART:20230312T090000
END:DAYLIGHT
BEGIN:STANDARD
TZOFFSETFROM:-0600
TZOFFSETTO:-0700
TZNAME:MST
DTSTART:20231105T080000
END:STANDARD
BEGIN:DAYLIGHT
TZOFFSETFROM:-0700
TZOFFSETTO:-0600
TZNAME:MDT
DTSTART:20240310T090000
END:DAYLIGHT
BEGIN:STANDARD
TZOFFSETFROM:-0600
TZOFFSETTO:-0700
TZNAME:MST
DTSTART:20241103T080000
END:STANDARD
BEGIN:DAYLIGHT
TZOFFSETFROM:-0700
TZOFFSETTO:-0600
TZNAME:MDT
DTSTART:20250309T090000
END:DAYLIGHT
BEGIN:STANDARD
TZOFFSETFROM:-0600
TZOFFSETTO:-0700
TZNAME:MST
DTSTART:20251102T080000
END:STANDARD
BEGIN:DAYLIGHT
TZOFFSETFROM:-0700
TZOFFSETTO:-0600
TZNAME:MDT
DTSTART:20260308T090000
END:DAYLIGHT
BEGIN:STANDARD
TZOFFSETFROM:-0600
TZOFFSETTO:-0700
TZNAME:MST
DTSTART:20261101T080000
END:STANDARD
END:VTIMEZONE
BEGIN:VTIMEZONE
TZID:America/Chicago
BEGIN:DAYLIGHT
TZOFFSETFROM:-0600
TZOFFSETTO:-0500
TZNAME:CDT
DTSTART:20240310T080000
END:DAYLIGHT
BEGIN:STANDARD
TZOFFSETFROM:-0500
TZOFFSETTO:-0600
TZNAME:CST
DTSTART:20241103T070000
END:STANDARD
BEGIN:DAYLIGHT
TZOFFSETFROM:-0600
TZOFFSETTO:-0500
TZNAME:CDT
DTSTART:20250309T080000
END:DAYLIGHT
BEGIN:STANDARD
TZOFFSETFROM:-0500
TZOFFSETTO:-0600
TZNAME:CST
DTSTART:20251102T070000
END:STANDARD
BEGIN:DAYLIGHT
TZOFFSETFROM:-0600
TZOFFSETTO:-0500
TZNAME:CDT
DTSTART:20260308T080000
END:DAYLIGHT
BEGIN:STANDARD
TZOFFSETFROM:-0500
TZOFFSETTO:-0600
TZNAME:CST
DTSTART:20261101T070000
END:STANDARD
END:VTIMEZONE
BEGIN:VEVENT
DTSTART;VALUE=DATE:20250912
DTEND;VALUE=DATE:20250914
DTSTAMP:20260424T134535
CREATED:20220331T004754Z
LAST-MODIFIED:20250519T212614Z
UID:10000404-1757635200-1757807999@idahohighcountry.org
SUMMARY:ISU Bengal Roundup Rodeo
DESCRIPTION:Bull Riding\, Roping\, Steer Wrestling\, Bareback\, Saddle Broncs\, Barrel Racing and more wild west fun! Come support a winning and talented group of ISU student-athletes! 
URL:https://idahohighcountry.org/event/isu-bengal-roundup-rodeo/
LOCATION:Bannock County Event Center\, 10588 Fairground Dr\, Pocatello\, ID\, 83201\, United States
CATEGORIES:Rodeos
ATTACH;FMTTYPE=image/jpeg:https://idahohighcountry.org/wp-content/uploads/isu-bengal-rodeo-pocatello-idaho.jpg
GEO:42.9142845;-112.4336284
X-APPLE-STRUCTURED-LOCATION;VALUE=URI;X-ADDRESS=Bannock County Event Center 10588 Fairground Dr Pocatello ID 83201 United States;X-APPLE-RADIUS=500;X-TITLE=10588 Fairground Dr:geo:-112.4336284,42.9142845
END:VEVENT
BEGIN:VEVENT
DTSTART;VALUE=DATE:20250901
DTEND;VALUE=DATE:20250904
DTSTAMP:20260424T134535
CREATED:20160725T175242Z
LAST-MODIFIED:20250418T195853Z
UID:10000020-1756684800-1756943999@idahohighcountry.org
SUMMARY:Gem State Classic Pro Rodeo
DESCRIPTION:Are you ready for two outstanding nights of bare-back riding\, steer wrestling\, barrel racing\, team roping and more as the Gem State Classic Pro Rodeo returns for the sixth consecutive year to the Eastern Idaho State Fair? Starts at 7:30 pm each evening.
URL:https://idahohighcountry.org/event/gem-state-classic-pro-rodeo/
LOCATION:Eastern Idaho State Fairgrounds\, 97 Park Street\, Blackfoot\, ID\, 83221\, United States
CATEGORIES:Family Fun,Rodeos
ATTACH;FMTTYPE=image/jpeg:https://idahohighcountry.org/wp-content/uploads/eastern-idaho-fair-bull-riding-championship.jpg
GEO:43.1946917;-112.3404829
X-APPLE-STRUCTURED-LOCATION;VALUE=URI;X-ADDRESS=Eastern Idaho State Fairgrounds 97 Park Street Blackfoot ID 83221 United States;X-APPLE-RADIUS=500;X-TITLE=97 Park Street:geo:-112.3404829,43.1946917
END:VEVENT
BEGIN:VEVENT
DTSTART;TZID=America/Chicago:20250830T193000
DTEND;TZID=America/Chicago:20250830T220000
DTSTAMP:20260424T134535
CREATED:20160720T230214Z
LAST-MODIFIED:20250418T201754Z
UID:10000082-1756582200-1756591200@idahohighcountry.org
SUMMARY:Bull Riding Championships
DESCRIPTION:The “most dangerous eight seconds in sports”\, the fine art of bull riding requires a rider stay atop a whirlwind of chaos using only one hand to hold on. Don’t miss the Bull Riding Championships at the Eastern Idaho State Fair. 
URL:https://idahohighcountry.org/event/bull-riding-championships/
LOCATION:Eastern Idaho State Fairgrounds\, 97 Park Street\, Blackfoot\, ID\, 83221\, United States
CATEGORIES:Family Fun,Rodeos
ATTACH;FMTTYPE=image/jpeg:https://idahohighcountry.org/wp-content/uploads/bull-riding-championships-southeast-idaho-1.jpg
GEO:43.1946917;-112.3404829
X-APPLE-STRUCTURED-LOCATION;VALUE=URI;X-ADDRESS=Eastern Idaho State Fairgrounds 97 Park Street Blackfoot ID 83221 United States;X-APPLE-RADIUS=500;X-TITLE=97 Park Street:geo:-112.3404829,43.1946917
END:VEVENT
BEGIN:VEVENT
DTSTART;VALUE=DATE:20250724
DTEND;VALUE=DATE:20250725
DTSTAMP:20260424T134535
CREATED:20160713T211530Z
LAST-MODIFIED:20250519T214339Z
UID:10000041-1753315200-1753401599@idahohighcountry.org
SUMMARY:Bancroft Pioneer Days & Rodeo
DESCRIPTION:Join in the Bancroft Pioneer Days and Rodeo. Parade\, Lion’s Club Breakfast\, Kid’s Races\, Craft Fair & 5K Fun Run.
URL:https://idahohighcountry.org/event/bancroft-rodeo/
LOCATION:Bancroft Rodeo Grounds\, Bancroft\, ID\, 83217\, United States
CATEGORIES:Family Fun,Holiday Celebrations,Parades,Rodeos
ATTACH;FMTTYPE=image/jpeg:https://idahohighcountry.org/wp-content/uploads/Bancroft-Idaho-Pioneer-Days-rodeo-parade.jpg
GEO:42.7201961;-111.8857901
END:VEVENT
BEGIN:VEVENT
DTSTART;TZID=America/Denver:20250621T080000
DTEND;TZID=America/Denver:20250621T173000
DTSTAMP:20260424T134535
CREATED:20230605T152537Z
LAST-MODIFIED:20250519T200224Z
UID:10000567-1750492800-1750527000@idahohighcountry.org
SUMMARY:Trail Horse Obstacle Challenge
DESCRIPTION:The Portneuf River Back Country Horsemen are offering a fun\, challenging and educational obstacles based on the skills needed for trail riding. Bring your own horse. Riders 17 & under must wear a helmet. The number of participants will cap at 42. \nVisit their website for prices & details.\nVisit their Facebook page.
URL:https://idahohighcountry.org/event/trail-obstacle-challenge/
LOCATION:Bannock County Event Center\, 10588 Fairground Dr\, Pocatello\, ID\, 83201\, United States
CATEGORIES:Family Fun,Rodeos,Sports & Races
ATTACH;FMTTYPE=image/jpeg:https://idahohighcountry.org/wp-content/uploads/portneuf-river-horsemen-trali-obstacle-challenge.jpg
GEO:42.9142845;-112.4336284
X-APPLE-STRUCTURED-LOCATION;VALUE=URI;X-ADDRESS=Bannock County Event Center 10588 Fairground Dr Pocatello ID 83201 United States;X-APPLE-RADIUS=500;X-TITLE=10588 Fairground Dr:geo:-112.4336284,42.9142845
END:VEVENT
BEGIN:VEVENT
DTSTART;VALUE=DATE:20240808
DTEND;VALUE=DATE:20240812
DTSTAMP:20260424T134535
CREATED:20190226T213030Z
LAST-MODIFIED:20250812T232957Z
UID:10000288-1723075200-1723420799@idahohighcountry.org
SUMMARY:Power County Fair Rodeo
DESCRIPTION:Rodeo fun includes Ranch broncs\, bareback\, Wild Cow Milking\, breakaway roping\, Team Roping\, Donkey Roping\, Mini Bulls\, Bulls\, Jr. Barrels & Open barrels. Kickoff for the Power County Fair!
URL:https://idahohighcountry.org/event/power-county-fair-rodeo/
LOCATION:American Falls Fair Grounds\, 2745 Fairgrounds Road\, American Falls\, ID\, 83211
CATEGORIES:Rodeos
ATTACH;FMTTYPE=image/jpeg:https://idahohighcountry.org/wp-content/uploads/power-county-fair-rodeo.jpg
GEO:42.7959741;-112.8310192
X-APPLE-STRUCTURED-LOCATION;VALUE=URI;X-ADDRESS=American Falls Fair Grounds 2745 Fairgrounds Road American Falls ID 83211;X-APPLE-RADIUS=500;X-TITLE=2745 Fairgrounds Road:geo:-112.8310192,42.7959741
END:VEVENT
BEGIN:VEVENT
DTSTART;VALUE=DATE:20190810
DTEND;VALUE=DATE:20190813
DTSTAMP:20260424T134535
CREATED:20160721T001515Z
LAST-MODIFIED:20260415T170321Z
UID:10000051-1565395200-1565600400@idahohighcountry.org
SUMMARY:Fort Hall Championship Rodeo
DESCRIPTION:Bareback\, steer wrestling\, roping\, barrel racing and bull riding excitement! Part of the Shoshone Bannock Indian Festival. \nPhoto by Western Edge Photography
URL:https://idahohighcountry.org/event/fort-hall-championship-rodeo/
LOCATION:Fort Hall Rodeo Arena\, 777 Bannock Trail\, Fort Hall\, ID\, 83202\, United States
CATEGORIES:Rodeos
ATTACH;FMTTYPE=image/jpeg:https://idahohighcountry.org/wp-content/uploads/fort-hall-rodeo.jpg
GEO:43.0384706;-112.3975204
X-APPLE-STRUCTURED-LOCATION;VALUE=URI;X-ADDRESS=Fort Hall Rodeo Arena 777 Bannock Trail Fort Hall ID 83202 United States;X-APPLE-RADIUS=500;X-TITLE=777 Bannock Trail:geo:-112.3975204,43.0384706
END:VEVENT
END:VCALENDAR