BEGIN:VCALENDAR
VERSION:2.0
PRODID:-//Southeast Idaho High Country - ECPv6.15.20//NONSGML v1.0//EN
CALSCALE:GREGORIAN
METHOD:PUBLISH
X-ORIGINAL-URL:https://idahohighcountry.org
X-WR-CALDESC:Events for Southeast Idaho High Country
REFRESH-INTERVAL;VALUE=DURATION:PT1H
X-Robots-Tag:noindex
X-PUBLISHED-TTL:PT1H
BEGIN:VTIMEZONE
TZID:America/Denver
BEGIN:DAYLIGHT
TZOFFSETFROM:-0700
TZOFFSETTO:-0600
TZNAME:MDT
DTSTART:20210314T090000
END:DAYLIGHT
BEGIN:STANDARD
TZOFFSETFROM:-0600
TZOFFSETTO:-0700
TZNAME:MST
DTSTART:20211107T080000
END:STANDARD
BEGIN:DAYLIGHT
TZOFFSETFROM:-0700
TZOFFSETTO:-0600
TZNAME:MDT
DTSTART:20220313T090000
END:DAYLIGHT
BEGIN:STANDARD
TZOFFSETFROM:-0600
TZOFFSETTO:-0700
TZNAME:MST
DTSTART:20221106T080000
END:STANDARD
BEGIN:DAYLIGHT
TZOFFSETFROM:-0700
TZOFFSETTO:-0600
TZNAME:MDT
DTSTART:20230312T090000
END:DAYLIGHT
BEGIN:STANDARD
TZOFFSETFROM:-0600
TZOFFSETTO:-0700
TZNAME:MST
DTSTART:20231105T080000
END:STANDARD
BEGIN:DAYLIGHT
TZOFFSETFROM:-0700
TZOFFSETTO:-0600
TZNAME:MDT
DTSTART:20240310T090000
END:DAYLIGHT
BEGIN:STANDARD
TZOFFSETFROM:-0600
TZOFFSETTO:-0700
TZNAME:MST
DTSTART:20241103T080000
END:STANDARD
BEGIN:DAYLIGHT
TZOFFSETFROM:-0700
TZOFFSETTO:-0600
TZNAME:MDT
DTSTART:20250309T090000
END:DAYLIGHT
BEGIN:STANDARD
TZOFFSETFROM:-0600
TZOFFSETTO:-0700
TZNAME:MST
DTSTART:20251102T080000
END:STANDARD
BEGIN:DAYLIGHT
TZOFFSETFROM:-0700
TZOFFSETTO:-0600
TZNAME:MDT
DTSTART:20260308T090000
END:DAYLIGHT
BEGIN:STANDARD
TZOFFSETFROM:-0600
TZOFFSETTO:-0700
TZNAME:MST
DTSTART:20261101T080000
END:STANDARD
END:VTIMEZONE
BEGIN:VEVENT
DTSTART;TZID=America/Denver:20251129T170000
DTEND;TZID=America/Denver:20251129T210000
DTSTAMP:20260425T133235
CREATED:20161029T042024Z
LAST-MODIFIED:20251120T225428Z
UID:10000126-1764435600-1764450000@idahohighcountry.org
SUMMARY:Christmas in the Night Time Skies 2025
DESCRIPTION:Christmas in the Night Time Skies is a fun way to kick-off the holidays with Fireworks and hot dogs. Come help less fortunate children in our area have a happy Christmas holiday by bringing an unwrapped toy for Toys for Tots! Food and fun from 5:00 to 7:30pm. Fireworks start at 8 pm. 
URL:https://idahohighcountry.org/event/christmas-nightime-skies/
LOCATION:Bannock County Event Center\, 10588 Fairground Dr\, Pocatello\, ID\, 83201\, United States
CATEGORIES:Family Fun,Holiday Celebrations
ATTACH;FMTTYPE=image/jpeg:https://idahohighcountry.org/wp-content/uploads/Christmas-in-the-night-time-sky-bannock-county-event-center.jpg
GEO:42.9142845;-112.4336284
X-APPLE-STRUCTURED-LOCATION;VALUE=URI;X-ADDRESS=Bannock County Event Center 10588 Fairground Dr Pocatello ID 83201 United States;X-APPLE-RADIUS=500;X-TITLE=10588 Fairground Dr:geo:-112.4336284,42.9142845
END:VEVENT
BEGIN:VEVENT
DTSTART;TZID=America/Denver:20250913T150000
DTEND;TZID=America/Denver:20250913T230000
DTSTAMP:20260425T133236
CREATED:20250410T042219Z
LAST-MODIFIED:20250812T232326Z
UID:10000956-1757775600-1757804400@idahohighcountry.org
SUMMARY:Eastern Idaho's Haunted Bus Tour
DESCRIPTION:SRD’s Haunted Attractions brings you… Eastern Idaho’s Haunted Bus Tour!\nSaturday the 13th of September in 2025!\nThe Very Comfortable tour bus from Teton Stagelines will take us to 7 known Haunted Locations. You will hear their history & stories given by SRD’s Haunted Attractions. 3 Counties & 4 Cities in about 8 hours.\nExtra time when we get to Soda Springs to have dinner. We are excited to have this spooky fun event catered by a local food establishment! In-between Haunted stops we will have dinner in the park. This is included in your ticket price.\nHorror Movies will be played Onboard. (Rated R) [Movies voted for by ticketed riders at check-in]\nSnacks & Drinks provided and included. Feel free to bring your own as well. (No Alcohol Please)\nBus loads @3pm in Pocatello at the parking lot off of Olympus & Fairgrounds Dr. We return to the same location at 11pm and will have an optional final tour of the Event Center Spooks.\nOnly $150 per seat! Tickets can be found at https://www.facebook.com/events/1693671481502102 or purchased via Venmo @PokyPartyBarn You can also register over the phone or direct questions to (208)705-8978
URL:https://idahohighcountry.org/event/eastern-idahos-haunted-bus-tour/
LOCATION:Bannock County Event Center\, 10588 Fairground Dr\, Pocatello\, ID\, 83201\, United States
ATTACH;FMTTYPE=image/jpeg:https://idahohighcountry.org/wp-content/uploads/SRD-haunted-bus-tour.jpg
GEO:42.9142845;-112.4336284
X-APPLE-STRUCTURED-LOCATION;VALUE=URI;X-ADDRESS=Bannock County Event Center 10588 Fairground Dr Pocatello ID 83201 United States;X-APPLE-RADIUS=500;X-TITLE=10588 Fairground Dr:geo:-112.4336284,42.9142845
END:VEVENT
BEGIN:VEVENT
DTSTART;VALUE=DATE:20250912
DTEND;VALUE=DATE:20250914
DTSTAMP:20260425T133236
CREATED:20220331T004754Z
LAST-MODIFIED:20250519T212614Z
UID:10000404-1757635200-1757807999@idahohighcountry.org
SUMMARY:ISU Bengal Roundup Rodeo
DESCRIPTION:Bull Riding\, Roping\, Steer Wrestling\, Bareback\, Saddle Broncs\, Barrel Racing and more wild west fun! Come support a winning and talented group of ISU student-athletes! 
URL:https://idahohighcountry.org/event/isu-bengal-roundup-rodeo/
LOCATION:Bannock County Event Center\, 10588 Fairground Dr\, Pocatello\, ID\, 83201\, United States
CATEGORIES:Rodeos
ATTACH;FMTTYPE=image/jpeg:https://idahohighcountry.org/wp-content/uploads/isu-bengal-rodeo-pocatello-idaho.jpg
GEO:42.9142845;-112.4336284
X-APPLE-STRUCTURED-LOCATION;VALUE=URI;X-ADDRESS=Bannock County Event Center 10588 Fairground Dr Pocatello ID 83201 United States;X-APPLE-RADIUS=500;X-TITLE=10588 Fairground Dr:geo:-112.4336284,42.9142845
END:VEVENT
BEGIN:VEVENT
DTSTART;TZID=America/Denver:20250621T080000
DTEND;TZID=America/Denver:20250621T173000
DTSTAMP:20260425T133236
CREATED:20230605T152537Z
LAST-MODIFIED:20250519T200224Z
UID:10000567-1750492800-1750527000@idahohighcountry.org
SUMMARY:Trail Horse Obstacle Challenge
DESCRIPTION:The Portneuf River Back Country Horsemen are offering a fun\, challenging and educational obstacles based on the skills needed for trail riding. Bring your own horse. Riders 17 & under must wear a helmet. The number of participants will cap at 42. \nVisit their website for prices & details.\nVisit their Facebook page.
URL:https://idahohighcountry.org/event/trail-obstacle-challenge/
LOCATION:Bannock County Event Center\, 10588 Fairground Dr\, Pocatello\, ID\, 83201\, United States
CATEGORIES:Family Fun,Rodeos,Sports & Races
ATTACH;FMTTYPE=image/jpeg:https://idahohighcountry.org/wp-content/uploads/portneuf-river-horsemen-trali-obstacle-challenge.jpg
GEO:42.9142845;-112.4336284
X-APPLE-STRUCTURED-LOCATION;VALUE=URI;X-ADDRESS=Bannock County Event Center 10588 Fairground Dr Pocatello ID 83201 United States;X-APPLE-RADIUS=500;X-TITLE=10588 Fairground Dr:geo:-112.4336284,42.9142845
END:VEVENT
BEGIN:VEVENT
DTSTART;VALUE=DATE:20240712
DTEND;VALUE=DATE:20240727
DTSTAMP:20260425T133236
CREATED:20220331T004754Z
LAST-MODIFIED:20240301T201605Z
UID:10000405-1720742400-1722038399@idahohighcountry.org
SUMMARY:Pocatello Downs Flat Track Horse Races
DESCRIPTION:Fast action at the Pocatello Downs Flat Track Horse Races! Held at the Bannock County Events Center on Sundays.  \nJuly 12 & 26\, 2024. See their Facebook page for details and schedule.
URL:https://idahohighcountry.org/event/pocatello-downs-flat-track-horse-races-3/
LOCATION:Bannock County Event Center\, 10588 Fairground Dr\, Pocatello\, ID\, 83201\, United States
CATEGORIES:Leisure,Sports & Races
ATTACH;FMTTYPE=image/jpeg:https://idahohighcountry.org/wp-content/uploads/pocatello-downs-flat-track-races-idaho.jpg
GEO:42.9142845;-112.4336284
X-APPLE-STRUCTURED-LOCATION;VALUE=URI;X-ADDRESS=Bannock County Event Center 10588 Fairground Dr Pocatello ID 83201 United States;X-APPLE-RADIUS=500;X-TITLE=10588 Fairground Dr:geo:-112.4336284,42.9142845
END:VEVENT
BEGIN:VEVENT
DTSTART;TZID=America/Denver:20240621T170000
DTEND;TZID=America/Denver:20240622T110000
DTSTAMP:20260425T133236
CREATED:20230313T204326Z
LAST-MODIFIED:20240229T004559Z
UID:10000550-1718989200-1719054000@idahohighcountry.org
SUMMARY:Thrills 'n Chills Summer Scream Fest
DESCRIPTION:Thrills and Chills\, a Summer Scream Fest is definitely for the Halloween and Horror Lover. FREE entry. All ages are welcome. Costumes are absolutely encouraged. We will be awarding costume prizes throughout the day on Saturday. Hosted by SRD’s Haunted Attractions. See details on their Facebook page.
URL:https://idahohighcountry.org/event/thrills-n-chills-summer-scream-fest/
LOCATION:Bannock County Event Center\, 10588 Fairground Dr\, Pocatello\, ID\, 83201\, United States
CATEGORIES:Family Fun,Holiday Celebrations
ATTACH;FMTTYPE=image/jpeg:https://idahohighcountry.org/wp-content/uploads/thrills-chills-festevil-lava-hot-springs.jpg
GEO:42.9142845;-112.4336284
X-APPLE-STRUCTURED-LOCATION;VALUE=URI;X-ADDRESS=Bannock County Event Center 10588 Fairground Dr Pocatello ID 83201 United States;X-APPLE-RADIUS=500;X-TITLE=10588 Fairground Dr:geo:-112.4336284,42.9142845
END:VEVENT
BEGIN:VEVENT
DTSTART;TZID=America/Denver:20230729T120000
DTEND;TZID=America/Denver:20230729T180000
DTSTAMP:20260425T133236
CREATED:20220629T173916Z
LAST-MODIFIED:20230729T160012Z
UID:10000411-1690632000-1690653600@idahohighcountry.org
SUMMARY:Redneck Games in Pocatello
DESCRIPTION:Redneck Games for All Ages! Family Fun. Food Trucks\, Live Music with The Guitar Man\, Horse Rides\, Tractor & Hay Rides\, Talent Show\, Petting Zoo\, Mullet Contest\, Beard/Mustache Contest\, Big Hair Contest\, Watermelon Eating Contest. Redneck Games include Redneck Horse Shoes\, Rope Pull\, Hubcap Hurl & lots more! Local Market of amazing and unique items! \nHeld at the Bannock County Events Center in Pocatello.
URL:https://idahohighcountry.org/event/redneck-games-in-lava/
LOCATION:Bannock County Event Center\, 10588 Fairground Dr\, Pocatello\, ID\, 83201\, United States
CATEGORIES:Family Fun
ATTACH;FMTTYPE=image/jpeg:https://idahohighcountry.org/wp-content/uploads/redneck-games-pocatello-idaho.jpg
GEO:42.9142845;-112.4336284
X-APPLE-STRUCTURED-LOCATION;VALUE=URI;X-ADDRESS=Bannock County Event Center 10588 Fairground Dr Pocatello ID 83201 United States;X-APPLE-RADIUS=500;X-TITLE=10588 Fairground Dr:geo:-112.4336284,42.9142845
END:VEVENT
BEGIN:VEVENT
DTSTART;VALUE=DATE:20230721
DTEND;VALUE=DATE:20230723
DTSTAMP:20260425T133236
CREATED:20220331T004745Z
LAST-MODIFIED:20230307T184600Z
UID:10000183-1689897600-1690070399@idahohighcountry.org
SUMMARY:Monster Trucks Grand Nationals
DESCRIPTION:Don’t miss the No Limits Grand Nationals and Super/Cross in Pocatello. Featuring Bear Foot/ Monster Patrol / Rat Attack Corvette/ Wicked Sickness/ Outlaw Wrangler\, Hooligan Mini Bikes\, Hot Rod 4×4 Mud Races\, Tuff Trucks and more!
URL:https://idahohighcountry.org/event/monster-truck-grand-nationals/
LOCATION:Bannock County Event Center\, 10588 Fairground Dr\, Pocatello\, ID\, 83201\, United States
CATEGORIES:Car Shows,Family Fun,Sports & Races
ATTACH;FMTTYPE=image/jpeg:https://idahohighcountry.org/wp-content/uploads/Monster-Truck-grand-Nationals.jpg
GEO:42.9142845;-112.4336284
X-APPLE-STRUCTURED-LOCATION;VALUE=URI;X-ADDRESS=Bannock County Event Center 10588 Fairground Dr Pocatello ID 83201 United States;X-APPLE-RADIUS=500;X-TITLE=10588 Fairground Dr:geo:-112.4336284,42.9142845
END:VEVENT
BEGIN:VEVENT
DTSTART;TZID=America/Denver:20230429T100000
DTEND;TZID=America/Denver:20230429T150000
DTSTAMP:20260425T133236
CREATED:20230313T203212Z
LAST-MODIFIED:20230313T203248Z
UID:10000549-1682762400-1682780400@idahohighcountry.org
SUMMARY:The Fairytale Feast
DESCRIPTION:Meet the Fairytale Friends\, including Snow White\, Rapunzel\, Maverick Moose Dance\, and the animals from SRD’s Petting Zoo. Storytime with the princesses\, balloon twisted by a princess & lunch with the characters! Snow White will introduce the kids to her animal friends including a mini horse\, rabbits\, turtles\, and a bearded dragon.
URL:https://idahohighcountry.org/event/the-fairytale-feast/
LOCATION:Bannock County Event Center\, 10588 Fairground Dr\, Pocatello\, ID\, 83201\, United States
CATEGORIES:Family Fun
ATTACH;FMTTYPE=image/jpeg:https://idahohighcountry.org/wp-content/uploads/fairytail-feast-pocatello-idaho.jpg
GEO:42.9142845;-112.4336284
X-APPLE-STRUCTURED-LOCATION;VALUE=URI;X-ADDRESS=Bannock County Event Center 10588 Fairground Dr Pocatello ID 83201 United States;X-APPLE-RADIUS=500;X-TITLE=10588 Fairground Dr:geo:-112.4336284,42.9142845
END:VEVENT
BEGIN:VEVENT
DTSTART;VALUE=DATE:20220916
DTEND;VALUE=DATE:20220918
DTSTAMP:20260425T133236
CREATED:20220331T004753Z
LAST-MODIFIED:20260211T202600Z
UID:10000403-1663286400-1663459199@idahohighcountry.org
SUMMARY:Monster Truck Racing League
DESCRIPTION:Monster Truck Racing League feature only the top TV superstars including BIGFOOT\, Wolf’s Head\, King Krunch\, Backdraft\, Ice Cream Man\, Bad Habit\, Dragon Slayer and more at the Bannock County Events Center. Show times will be posted soon.
URL:https://idahohighcountry.org/event/monster-truck-racing-league/
LOCATION:Bannock County Event Center\, 10588 Fairground Dr\, Pocatello\, ID\, 83201\, United States
CATEGORIES:Car Shows,Family Fun,Sports & Races
ATTACH;FMTTYPE=image/jpeg:https://idahohighcountry.org/wp-content/uploads/monster-truck-racing-league-KiCr7z.tmp_.jpg
GEO:42.9142845;-112.4336284
X-APPLE-STRUCTURED-LOCATION;VALUE=URI;X-ADDRESS=Bannock County Event Center 10588 Fairground Dr Pocatello ID 83201 United States;X-APPLE-RADIUS=500;X-TITLE=10588 Fairground Dr:geo:-112.4336284,42.9142845
END:VEVENT
BEGIN:VEVENT
DTSTART;VALUE=DATE:20220819
DTEND;VALUE=DATE:20220821
DTSTAMP:20260425T133236
CREATED:20220331T004753Z
LAST-MODIFIED:20260211T202721Z
UID:10000400-1660867200-1661039999@idahohighcountry.org
SUMMARY:Monster Truck Freedom Tour
DESCRIPTION:Monster Trucks are heading to Southeast Idaho!! Experience the excitement of the Monster Freedom Tour at the Bannock County Event Center in Pocatello\, Idaho!
URL:https://idahohighcountry.org/event/monster-truck-freedom-tour/
LOCATION:Bannock County Event Center\, 10588 Fairground Dr\, Pocatello\, ID\, 83201\, United States
CATEGORIES:Car Shows,Family Fun,Sports & Races
ATTACH;FMTTYPE=image/jpeg:https://idahohighcountry.org/wp-content/uploads/Monster-Truck-Family-Reunion-tnthfU.tmp_.jpg
GEO:42.9142845;-112.4336284
X-APPLE-STRUCTURED-LOCATION;VALUE=URI;X-ADDRESS=Bannock County Event Center 10588 Fairground Dr Pocatello ID 83201 United States;X-APPLE-RADIUS=500;X-TITLE=10588 Fairground Dr:geo:-112.4336284,42.9142845
END:VEVENT
END:VCALENDAR