BEGIN:VCALENDAR
VERSION:2.0
PRODID:-//Southeast Idaho High Country - ECPv6.15.20//NONSGML v1.0//EN
CALSCALE:GREGORIAN
METHOD:PUBLISH
X-ORIGINAL-URL:https://idahohighcountry.org
X-WR-CALDESC:Events for Southeast Idaho High Country
REFRESH-INTERVAL;VALUE=DURATION:PT1H
X-Robots-Tag:noindex
X-PUBLISHED-TTL:PT1H
BEGIN:VTIMEZONE
TZID:America/Denver
BEGIN:DAYLIGHT
TZOFFSETFROM:-0700
TZOFFSETTO:-0600
TZNAME:MDT
DTSTART:20250309T090000
END:DAYLIGHT
BEGIN:STANDARD
TZOFFSETFROM:-0600
TZOFFSETTO:-0700
TZNAME:MST
DTSTART:20251102T080000
END:STANDARD
BEGIN:DAYLIGHT
TZOFFSETFROM:-0700
TZOFFSETTO:-0600
TZNAME:MDT
DTSTART:20260308T090000
END:DAYLIGHT
BEGIN:STANDARD
TZOFFSETFROM:-0600
TZOFFSETTO:-0700
TZNAME:MST
DTSTART:20261101T080000
END:STANDARD
BEGIN:DAYLIGHT
TZOFFSETFROM:-0700
TZOFFSETTO:-0600
TZNAME:MDT
DTSTART:20270314T090000
END:DAYLIGHT
BEGIN:STANDARD
TZOFFSETFROM:-0600
TZOFFSETTO:-0700
TZNAME:MST
DTSTART:20271107T080000
END:STANDARD
END:VTIMEZONE
BEGIN:VEVENT
DTSTART;VALUE=DATE:20260501
DTEND;VALUE=DATE:20260503
DTSTAMP:20260425T115406
CREATED:20240229T004428Z
LAST-MODIFIED:20260304T063258Z
UID:10000950-1777593600-1777766399@idahohighcountry.org
SUMMARY:SRD's SE Idaho Days
DESCRIPTION: Bring the family to SRD’s SE Idaho Days! Parade\, Car Show\, Bounce Houses\, Live Bands on Friday night\, Horse Drawn Wagon Ride\, Power Wheels Races\, Perfect Chaos Party Band\, Food Trucks & Unique Vendors. See times and details on their Facebook page. \n 
URL:https://idahohighcountry.org/event/srds-se-idaho-days/
LOCATION:Bannock County Event Center\, 10588 Fairground Dr\, Pocatello\, ID\, 83201\, United States
CATEGORIES:Family Fun
ATTACH;FMTTYPE=image/jpeg:https://idahohighcountry.org/wp-content/uploads/SRD-Kids-Day-pocatello-idaho.jpg
GEO:42.9142845;-112.4336284
X-APPLE-STRUCTURED-LOCATION;VALUE=URI;X-ADDRESS=Bannock County Event Center 10588 Fairground Dr Pocatello ID 83201 United States;X-APPLE-RADIUS=500;X-TITLE=10588 Fairground Dr:geo:-112.4336284,42.9142845
END:VEVENT
BEGIN:VEVENT
DTSTART;VALUE=DATE:20260502
DTEND;VALUE=DATE:20260720
DTSTAMP:20260425T115406
CREATED:20220331T004753Z
LAST-MODIFIED:20260304T064331Z
UID:10000402-1777680000-1784505599@idahohighcountry.org
SUMMARY:Pocatello Downs Flat Track Horse Races
DESCRIPTION:Fast action at the Pocatello Downs Flat Track Horse Races! Held at the Bannock County Events Center on Sundays. \nMay 2\, 3\, 10\, 17\, 25\, June 28 and July 19. (Tentative dates)\nCheck their Facebook page for updated details and schedule. \nBannock County Events Complex Calendar
URL:https://idahohighcountry.org/event/pocatello-downs-flat-track-horse-races-2/
LOCATION:Bannock County Event Center\, 10588 Fairground Dr\, Pocatello\, ID\, 83201\, United States
CATEGORIES:Leisure,Sports & Races
ATTACH;FMTTYPE=image/jpeg:https://idahohighcountry.org/wp-content/uploads/pocatello-downs-flat-track-races-idaho.jpg
GEO:42.9142845;-112.4336284
X-APPLE-STRUCTURED-LOCATION;VALUE=URI;X-ADDRESS=Bannock County Event Center 10588 Fairground Dr Pocatello ID 83201 United States;X-APPLE-RADIUS=500;X-TITLE=10588 Fairground Dr:geo:-112.4336284,42.9142845
END:VEVENT
BEGIN:VEVENT
DTSTART;VALUE=DATE:20260606
DTEND;VALUE=DATE:20260614
DTSTAMP:20260425T115406
CREATED:20170427T235438Z
LAST-MODIFIED:20260304T064814Z
UID:10000204-1780704000-1781395199@idahohighcountry.org
SUMMARY:Idaho High School Rodeo State Finals
DESCRIPTION:The Idaho High School Rodeo State Finals feature Idaho’s best young cowboys and cowgirls participating in Bareback Riding\, Saddle Broncs\, Bull Riding\,  Calf Roping\, Steer Wrestling\, Barrel Racing and more! Check the Bannock County calendar or their website for dates and times.
URL:https://idahohighcountry.org/event/idaho-high-school-rodeo-state-finals/
LOCATION:Bannock County Event Center\, 10588 Fairground Dr\, Pocatello\, ID\, 83201\, United States
CATEGORIES:Family Fun,Rodeos
ATTACH;FMTTYPE=image/jpeg:https://idahohighcountry.org/wp-content/uploads/idaho-high-school-rodeo-state-finals.jpg
GEO:42.9142845;-112.4336284
X-APPLE-STRUCTURED-LOCATION;VALUE=URI;X-ADDRESS=Bannock County Event Center 10588 Fairground Dr Pocatello ID 83201 United States;X-APPLE-RADIUS=500;X-TITLE=10588 Fairground Dr:geo:-112.4336284,42.9142845
END:VEVENT
BEGIN:VEVENT
DTSTART;VALUE=DATE:20260626
DTEND;VALUE=DATE:20260629
DTSTAMP:20260425T115406
CREATED:20230424T175955Z
LAST-MODIFIED:20260304T065146Z
UID:10000561-1782432000-1782691199@idahohighcountry.org
SUMMARY:Mystic Realms Fantasy Fair
DESCRIPTION:Enjoy a weekend of knights in shining armor\, pirates\, mermaids\, fairies at this family friendly fair to celebrate all things medieval and fantasy related. Knights in shining armor will be battling to win honor and fame\, pirates will be selling their ill gotten goods\, mermaids luring weary travelers\,  and much more. Dress up and show off your finest costume! \nVisit their Facebook page for photos and info.
URL:https://idahohighcountry.org/event/mystic-realms-fantasy-fair/
LOCATION:Bannock County Event Center\, 10588 Fairground Dr\, Pocatello\, ID\, 83201\, United States
CATEGORIES:Fairs & Festivals
ATTACH;FMTTYPE=image/jpeg:https://idahohighcountry.org/wp-content/uploads/Mystic-Realms-Fantasy-Fair-Pocatello-Idaho.jpg
GEO:42.9142845;-112.4336284
X-APPLE-STRUCTURED-LOCATION;VALUE=URI;X-ADDRESS=Bannock County Event Center 10588 Fairground Dr Pocatello ID 83201 United States;X-APPLE-RADIUS=500;X-TITLE=10588 Fairground Dr:geo:-112.4336284,42.9142845
END:VEVENT
BEGIN:VEVENT
DTSTART;VALUE=DATE:20260704
DTEND;VALUE=DATE:20260705
DTSTAMP:20260425T115406
CREATED:20160309T065227Z
LAST-MODIFIED:20260304T065400Z
UID:10000033-1783123200-1783209599@idahohighcountry.org
SUMMARY:Bannock Independence Day
DESCRIPTION:Bannock Independence Day Celebration includes Fireworks & Drone Show\, beach party\, car show\, kids games\, bouncy houses\, a water feature\, live music\, face painting\, food vendors and more at the Bannock County Events Center. 
URL:https://idahohighcountry.org/event/bannock-county-independence-day/
LOCATION:Bannock County Event Center\, 10588 Fairground Dr\, Pocatello\, ID\, 83201\, United States
CATEGORIES:Fairs & Festivals,Family Fun,Holiday Celebrations
ATTACH;FMTTYPE=image/jpeg:https://idahohighcountry.org/wp-content/uploads/bannock-county-independence-celebration.jpg
GEO:42.9142845;-112.4336284
X-APPLE-STRUCTURED-LOCATION;VALUE=URI;X-ADDRESS=Bannock County Event Center 10588 Fairground Dr Pocatello ID 83201 United States;X-APPLE-RADIUS=500;X-TITLE=10588 Fairground Dr:geo:-112.4336284,42.9142845
END:VEVENT
BEGIN:VEVENT
DTSTART;TZID=America/Denver:20260711T100000
DTEND;TZID=America/Denver:20260711T180000
DTSTAMP:20260425T115406
CREATED:20200130T221933Z
LAST-MODIFIED:20260304T063125Z
UID:10000177-1783764000-1783792800@idahohighcountry.org
SUMMARY:SRD's Pocatello Kids Day
DESCRIPTION:Bring the family to SRD’s Pocatello Kids Day! Face Painting\, Races\, Inflatables\, Water Zone\, Petting Zoo\, and more!
URL:https://idahohighcountry.org/event/pocatello-fun-fair-srds-motor-show/
LOCATION:Bannock County Event Center\, 10588 Fairground Dr\, Pocatello\, ID\, 83201\, United States
CATEGORIES:Family Fun
ATTACH;FMTTYPE=image/jpeg:https://idahohighcountry.org/wp-content/uploads/SRD-pocatello-kids-day-idaho.jpg
GEO:42.9142845;-112.4336284
X-APPLE-STRUCTURED-LOCATION;VALUE=URI;X-ADDRESS=Bannock County Event Center 10588 Fairground Dr Pocatello ID 83201 United States;X-APPLE-RADIUS=500;X-TITLE=10588 Fairground Dr:geo:-112.4336284,42.9142845
END:VEVENT
END:VCALENDAR