BEGIN:VCALENDAR
VERSION:2.0
PRODID:-//Southeast Idaho High Country - ECPv6.15.20//NONSGML v1.0//EN
CALSCALE:GREGORIAN
METHOD:PUBLISH
X-ORIGINAL-URL:https://idahohighcountry.org
X-WR-CALDESC:Events for Southeast Idaho High Country
REFRESH-INTERVAL;VALUE=DURATION:PT1H
X-Robots-Tag:noindex
X-PUBLISHED-TTL:PT1H
BEGIN:VTIMEZONE
TZID:America/Denver
BEGIN:DAYLIGHT
TZOFFSETFROM:-0700
TZOFFSETTO:-0600
TZNAME:MDT
DTSTART:20230312T090000
END:DAYLIGHT
BEGIN:STANDARD
TZOFFSETFROM:-0600
TZOFFSETTO:-0700
TZNAME:MST
DTSTART:20231105T080000
END:STANDARD
BEGIN:DAYLIGHT
TZOFFSETFROM:-0700
TZOFFSETTO:-0600
TZNAME:MDT
DTSTART:20240310T090000
END:DAYLIGHT
BEGIN:STANDARD
TZOFFSETFROM:-0600
TZOFFSETTO:-0700
TZNAME:MST
DTSTART:20241103T080000
END:STANDARD
BEGIN:DAYLIGHT
TZOFFSETFROM:-0700
TZOFFSETTO:-0600
TZNAME:MDT
DTSTART:20250309T090000
END:DAYLIGHT
BEGIN:STANDARD
TZOFFSETFROM:-0600
TZOFFSETTO:-0700
TZNAME:MST
DTSTART:20251102T080000
END:STANDARD
BEGIN:DAYLIGHT
TZOFFSETFROM:-0700
TZOFFSETTO:-0600
TZNAME:MDT
DTSTART:20260308T090000
END:DAYLIGHT
BEGIN:STANDARD
TZOFFSETFROM:-0600
TZOFFSETTO:-0700
TZNAME:MST
DTSTART:20261101T080000
END:STANDARD
END:VTIMEZONE
BEGIN:VEVENT
DTSTART;TZID=America/Denver:20251224T100000
DTEND;TZID=America/Denver:20251224T120000
DTSTAMP:20260424T033901
CREATED:20231202T181329Z
LAST-MODIFIED:20251115T004626Z
UID:10000870-1766570400-1766577600@idahohighcountry.org
SUMMARY:Deleta Skating Christmas Party
DESCRIPTION:A Good Ol’ Deleta Christmas Party! Free pictures with Santa\, Free craft station for kids\, Free hot chocolate\, Free ride aboard the Roller Express to look at Christmas Lights\, Ugly Sweater Costume Contest with prizes to the top 3 and 4 hours of skating! \nView details on Facebook!
URL:https://idahohighcountry.org/event/deleta-skating-christmas-party/
LOCATION:Deleta Skating\, 520 Yellowstone Ave\, Pocatello\, ID\, 83202\, United States
CATEGORIES:Family Fun,Holiday Celebrations
ATTACH;FMTTYPE=image/jpeg:https://idahohighcountry.org/wp-content/uploads/deleta-skating-christmas-party-Pocatello.jpg
END:VEVENT
BEGIN:VEVENT
DTSTART;TZID=America/Denver:20251024T190000
DTEND;TZID=America/Denver:20251024T230000
DTSTAMP:20260424T033901
CREATED:20250812T222852Z
LAST-MODIFIED:20250812T222852Z
UID:10000971-1761332400-1761346800@idahohighcountry.org
SUMMARY:Deleta Spooky Skate
DESCRIPTION:Costume contest\, hours of skating\, and games at Deleta Skating in Pocatello! 
URL:https://idahohighcountry.org/event/deleta-spooky-skate/
LOCATION:Deleta Skating\, 520 Yellowstone Ave\, Pocatello\, ID\, 83202\, United States
CATEGORIES:Family Fun
ATTACH;FMTTYPE=image/jpeg:https://idahohighcountry.org/wp-content/uploads/deleta-skating-spooky-skate-event.jpg
END:VEVENT
BEGIN:VEVENT
DTSTART;TZID=America/Denver:20251010T190000
DTEND;TZID=America/Denver:20251101T230000
DTSTAMP:20260424T033901
CREATED:20250812T221134Z
LAST-MODIFIED:20250812T221134Z
UID:10000970-1760122800-1762038000@idahohighcountry.org
SUMMARY:Escape the Madhouse
DESCRIPTION:Deleta Skating’s haunted house is back and better than ever this year! We are open October 10\, 11\, 17\, 18\, 23\, 24\, 25\, 30\, 31\, and November 1st for a special blackout night at Deleta Skating in Pocatello! 
URL:https://idahohighcountry.org/event/escape-the-madhouse/
LOCATION:Deleta Skating\, 520 Yellowstone Ave\, Pocatello\, ID\, 83202\, United States
CATEGORIES:Family Fun
ATTACH;FMTTYPE=image/jpeg:https://idahohighcountry.org/wp-content/uploads/deleta-skating-escape-the-madhouse-event.jpg
END:VEVENT
BEGIN:VEVENT
DTSTART;TZID=America/Denver:20250926T190000
DTEND;TZID=America/Denver:20250926T230000
DTSTAMP:20260424T033901
CREATED:20240813T222011Z
LAST-MODIFIED:20250812T220515Z
UID:10000924-1758913200-1758927600@idahohighcountry.org
SUMMARY:Deleta Skating Harry Potter Theme Night
DESCRIPTION:Trivia\, Costume contest\, Free butterbeer all night\, 4 hours of skating\, Harry Potter themed games at Deleta Skating in Pocatello! 
URL:https://idahohighcountry.org/event/deleta-skating-harry-potter-night/
LOCATION:Deleta Skating\, 520 Yellowstone Ave\, Pocatello\, ID\, 83202\, United States
CATEGORIES:Family Fun
ATTACH;FMTTYPE=image/jpeg:https://idahohighcountry.org/wp-content/uploads/harry-potter-deleta-skating-pocatello-idaho.jpg
END:VEVENT
BEGIN:VEVENT
DTSTART;TZID=America/Denver:20250912T190000
DTEND;TZID=America/Denver:20250912T230000
DTSTAMP:20260424T033901
CREATED:20240813T223423Z
LAST-MODIFIED:20250812T220230Z
UID:10000925-1757703600-1757718000@idahohighcountry.org
SUMMARY:Wednesday Addams Scary Skate
DESCRIPTION:Costume contest\, hours of skating\, and games at Deleta Skating in Pocatello! 
URL:https://idahohighcountry.org/event/friday-the-13th-scary-skate/
LOCATION:Deleta Skating\, 520 Yellowstone Ave\, Pocatello\, ID\, 83202\, United States
CATEGORIES:Family Fun
ATTACH;FMTTYPE=image/jpeg:https://idahohighcountry.org/wp-content/uploads/scary-skate-deleta-skating-pocatello-idaho.jpg
END:VEVENT
BEGIN:VEVENT
DTSTART;TZID=America/Denver:20250214T190000
DTEND;TZID=America/Denver:20250214T230000
DTSTAMP:20260424T033901
CREATED:20250201T024203Z
LAST-MODIFIED:20250201T024203Z
UID:10000933-1739559600-1739574000@idahohighcountry.org
SUMMARY:Deleta Sweetheart Skate
DESCRIPTION:Calling all friend groups and couples! Come party this Valentine’s Day! Enjoy a costume contest for best matching couples/friends outfits\, and an old school photo shoot.
URL:https://idahohighcountry.org/event/deleta-skating-sweetheart-skate/
LOCATION:Deleta Skating\, 520 Yellowstone Ave\, Pocatello\, ID\, 83202\, United States
CATEGORIES:Family Fun,Holiday Celebrations
ATTACH;FMTTYPE=image/jpeg:https://idahohighcountry.org/wp-content/uploads/deleta-skating-sweetheart-skate-Pocatello.jpg
END:VEVENT
BEGIN:VEVENT
DTSTART;TZID=America/Denver:20241230T100000
DTEND;TZID=America/Denver:20241230T235500
DTSTAMP:20260424T033901
CREATED:20231202T182848Z
LAST-MODIFIED:20241228T042231Z
UID:10000871-1735552800-1735602900@idahohighcountry.org
SUMMARY:Deleta Skating New Years Party
DESCRIPTION:Ring in the New Year at Deleta Skating in Pocatello! We are celebrating with 3 chances to ring in the new year! Celebrate early from 11-5 or celebrate late from 7-midnight. A balloon drop will happen right at the end of each party with huge prizes\, included two annual passes to Deleta! Celebrated the day before New Years Eve on Saturday the 30th.
URL:https://idahohighcountry.org/event/deleta-skating-new-years-party/
LOCATION:Deleta Skating\, 520 Yellowstone Ave\, Pocatello\, ID\, 83202\, United States
CATEGORIES:Family Fun,Holiday Celebrations
ATTACH;FMTTYPE=image/jpeg:https://idahohighcountry.org/wp-content/uploads/deleta-skating-new-years-party-Pocatello.jpg
END:VEVENT
END:VCALENDAR