BEGIN:VCALENDAR
VERSION:2.0
PRODID:-//Southeast Idaho High Country - ECPv6.15.18//NONSGML v1.0//EN
CALSCALE:GREGORIAN
METHOD:PUBLISH
X-WR-CALNAME:Southeast Idaho High Country
X-ORIGINAL-URL:https://idahohighcountry.org
X-WR-CALDESC:Events for Southeast Idaho High Country
REFRESH-INTERVAL;VALUE=DURATION:PT1H
X-Robots-Tag:noindex
X-PUBLISHED-TTL:PT1H
BEGIN:VTIMEZONE
TZID:America/Denver
BEGIN:DAYLIGHT
TZOFFSETFROM:-0700
TZOFFSETTO:-0600
TZNAME:MDT
DTSTART:20250309T090000
END:DAYLIGHT
BEGIN:STANDARD
TZOFFSETFROM:-0600
TZOFFSETTO:-0700
TZNAME:MST
DTSTART:20251102T080000
END:STANDARD
BEGIN:DAYLIGHT
TZOFFSETFROM:-0700
TZOFFSETTO:-0600
TZNAME:MDT
DTSTART:20260308T090000
END:DAYLIGHT
BEGIN:STANDARD
TZOFFSETFROM:-0600
TZOFFSETTO:-0700
TZNAME:MST
DTSTART:20261101T080000
END:STANDARD
BEGIN:DAYLIGHT
TZOFFSETFROM:-0700
TZOFFSETTO:-0600
TZNAME:MDT
DTSTART:20270314T090000
END:DAYLIGHT
BEGIN:STANDARD
TZOFFSETFROM:-0600
TZOFFSETTO:-0700
TZNAME:MST
DTSTART:20271107T080000
END:STANDARD
END:VTIMEZONE
BEGIN:VEVENT
DTSTART;VALUE=DATE:20260806
DTEND;VALUE=DATE:20260809
DTSTAMP:20260419T064108
CREATED:20160627T190231Z
LAST-MODIFIED:20260116T030037Z
UID:10000039-1785974400-1786233599@idahohighcountry.org
SUMMARY:Bear Lake Raspberry Days
DESCRIPTION:Fun filled 3 days in Bear Lake’s Garden City with Live Music\, Entertainment\, Craft Fair\, Parade\, Rodeo\, 5K\, Pancake Breakfast\, dances and fireworks on the Beach. \nVisit the Raspberry Days Facebook Page
URL:https://idahohighcountry.org/event/raspberry-days/
LOCATION:Garden City\, Utah\, 33 S Bear Lake Blvd\, Garden City\, UT\, 84028\, United States
CATEGORIES:Fairs & Festivals,Family Fun
ATTACH;FMTTYPE=image/jpeg:https://idahohighcountry.org/wp-content/uploads/bear-lake-raspberry-days-festival-parade.jpg
GEO:41.9466086;-111.3933836
X-APPLE-STRUCTURED-LOCATION;VALUE=URI;X-ADDRESS=Garden City Utah 33 S Bear Lake Blvd Garden City UT 84028 United States;X-APPLE-RADIUS=500;X-TITLE=33 S Bear Lake Blvd:geo:-111.3933836,41.9466086
END:VEVENT
END:VCALENDAR