BEGIN:VCALENDAR
VERSION:2.0
PRODID:-//Southeast Idaho High Country - ECPv6.15.18//NONSGML v1.0//EN
CALSCALE:GREGORIAN
METHOD:PUBLISH
X-WR-CALNAME:Southeast Idaho High Country
X-ORIGINAL-URL:https://idahohighcountry.org
X-WR-CALDESC:Events for Southeast Idaho High Country
REFRESH-INTERVAL;VALUE=DURATION:PT1H
X-Robots-Tag:noindex
X-PUBLISHED-TTL:PT1H
BEGIN:VTIMEZONE
TZID:America/Denver
BEGIN:DAYLIGHT
TZOFFSETFROM:-0700
TZOFFSETTO:-0600
TZNAME:MDT
DTSTART:20230312T090000
END:DAYLIGHT
BEGIN:STANDARD
TZOFFSETFROM:-0600
TZOFFSETTO:-0700
TZNAME:MST
DTSTART:20231105T080000
END:STANDARD
BEGIN:DAYLIGHT
TZOFFSETFROM:-0700
TZOFFSETTO:-0600
TZNAME:MDT
DTSTART:20240310T090000
END:DAYLIGHT
BEGIN:STANDARD
TZOFFSETFROM:-0600
TZOFFSETTO:-0700
TZNAME:MST
DTSTART:20241103T080000
END:STANDARD
BEGIN:DAYLIGHT
TZOFFSETFROM:-0700
TZOFFSETTO:-0600
TZNAME:MDT
DTSTART:20250309T090000
END:DAYLIGHT
BEGIN:STANDARD
TZOFFSETFROM:-0600
TZOFFSETTO:-0700
TZNAME:MST
DTSTART:20251102T080000
END:STANDARD
END:VTIMEZONE
BEGIN:VEVENT
DTSTART;VALUE=DATE:20241220
DTEND;VALUE=DATE:20241225
DTSTAMP:20260421T131526
CREATED:20231202T043232Z
LAST-MODIFIED:20241106T211329Z
UID:10000867-1734652800-1735084799@idahohighcountry.org
SUMMARY:Christmas Lights Tour Hay Ride
DESCRIPTION:Christmas Lights Tour with a Horse on a Hay Ride! An annual Pocatello Tradition! Come take a ride with Duke\, the smallest working therapy horse in the USA\, and see the lights in Pocatello. Each ride is a 15 min tour of the route shown on the map. We will pick up and drop off on Hiskey at the corner of Hiskey and Butte near Gate City Elementary. Ride on the hay trailer with the horse and be pulled by a pickup to see the lights. \nStart Time: 6:00 PM\nEnd Time: 8:00 PM \nVisit their Facebook page for dates and times.
URL:https://idahohighcountry.org/event/christmas-lights-tour-hay-ride/
LOCATION:Hiskey and Butte Pocatello Idaho\, 2300 Butte St\, Pocatello\, ID\, 83201\, United States
CATEGORIES:Family Fun,Holiday Celebrations
ATTACH;FMTTYPE=image/jpeg:https://idahohighcountry.org/wp-content/uploads/christmas-lights-tour-hay-ride.jpg
END:VEVENT
END:VCALENDAR