BEGIN:VCALENDAR
VERSION:2.0
PRODID:-//Southeast Idaho High Country - ECPv6.15.20//NONSGML v1.0//EN
CALSCALE:GREGORIAN
METHOD:PUBLISH
X-WR-CALNAME:Southeast Idaho High Country
X-ORIGINAL-URL:https://idahohighcountry.org
X-WR-CALDESC:Events for Southeast Idaho High Country
REFRESH-INTERVAL;VALUE=DURATION:PT1H
X-Robots-Tag:noindex
X-PUBLISHED-TTL:PT1H
BEGIN:VTIMEZONE
TZID:America/Denver
BEGIN:DAYLIGHT
TZOFFSETFROM:-0700
TZOFFSETTO:-0600
TZNAME:MDT
DTSTART:20250309T090000
END:DAYLIGHT
BEGIN:STANDARD
TZOFFSETFROM:-0600
TZOFFSETTO:-0700
TZNAME:MST
DTSTART:20251102T080000
END:STANDARD
BEGIN:DAYLIGHT
TZOFFSETFROM:-0700
TZOFFSETTO:-0600
TZNAME:MDT
DTSTART:20260308T090000
END:DAYLIGHT
BEGIN:STANDARD
TZOFFSETFROM:-0600
TZOFFSETTO:-0700
TZNAME:MST
DTSTART:20261101T080000
END:STANDARD
BEGIN:DAYLIGHT
TZOFFSETFROM:-0700
TZOFFSETTO:-0600
TZNAME:MDT
DTSTART:20270314T090000
END:DAYLIGHT
BEGIN:STANDARD
TZOFFSETFROM:-0600
TZOFFSETTO:-0700
TZNAME:MST
DTSTART:20271107T080000
END:STANDARD
END:VTIMEZONE
BEGIN:VEVENT
DTSTART;TZID=America/Denver:20260509T100000
DTEND;TZID=America/Denver:20260509T150000
DTSTAMP:20260424T204948
CREATED:20251204T024127Z
LAST-MODIFIED:20260331T215649Z
UID:10000990-1778320800-1778338800@idahohighcountry.org
SUMMARY:Poky Flea
DESCRIPTION:200+ vendors\, antiques\, handmade\, collectibles\, vintage clothing\, local vendors\, and more at the Mountain View Event Center in Pocatello\, Idaho. \n$1 ENTRY (kids 12 and under free)
URL:https://idahohighcountry.org/event/poky-flea/
LOCATION:Mountain View Event Center\, 1567 Way to Grace\, Pocatello\, ID\, 83201\, United States
CATEGORIES:Arts & Crafts Shows
ATTACH;FMTTYPE=image/jpeg:https://idahohighcountry.org/wp-content/uploads/poky-flea-market-pocatello-idaho.jpg
END:VEVENT
BEGIN:VEVENT
DTSTART;VALUE=DATE:20261127
DTEND;VALUE=DATE:20261128
DTSTAMP:20260424T204948
CREATED:20251114T190017Z
LAST-MODIFIED:20260331T220600Z
UID:10000987-1795737600-1795823999@idahohighcountry.org
SUMMARY:Pocatello Christmas Market
DESCRIPTION:Shop for Unique Gifts\, Handmade Crafts\, and Sweet Treats with 100 vendors. Watch Performers\, Visit a Santa Photo Booth\, drink hot cocoa and more at the Mountain View Event Center in Pocatello Idaho.  \nVisit their Website and  Instagram page for times and details.
URL:https://idahohighcountry.org/event/pocatello-christmas-market/
LOCATION:Mountain View Event Center\, 1567 Way to Grace\, Pocatello\, ID\, 83201\, United States
CATEGORIES:Arts & Crafts Shows
ATTACH;FMTTYPE=image/jpeg:https://idahohighcountry.org/wp-content/uploads/Pocatello-Christmas-Market.jpg
END:VEVENT
END:VCALENDAR