BEGIN:VCALENDAR
VERSION:2.0
PRODID:-//Southeast Idaho High Country - ECPv6.15.20//NONSGML v1.0//EN
CALSCALE:GREGORIAN
METHOD:PUBLISH
X-ORIGINAL-URL:https://idahohighcountry.org
X-WR-CALDESC:Events for Southeast Idaho High Country
REFRESH-INTERVAL;VALUE=DURATION:PT1H
X-Robots-Tag:noindex
X-PUBLISHED-TTL:PT1H
BEGIN:VTIMEZONE
TZID:America/Denver
BEGIN:DAYLIGHT
TZOFFSETFROM:-0700
TZOFFSETTO:-0600
TZNAME:MDT
DTSTART:20220313T090000
END:DAYLIGHT
BEGIN:STANDARD
TZOFFSETFROM:-0600
TZOFFSETTO:-0700
TZNAME:MST
DTSTART:20221106T080000
END:STANDARD
BEGIN:DAYLIGHT
TZOFFSETFROM:-0700
TZOFFSETTO:-0600
TZNAME:MDT
DTSTART:20230312T090000
END:DAYLIGHT
BEGIN:STANDARD
TZOFFSETFROM:-0600
TZOFFSETTO:-0700
TZNAME:MST
DTSTART:20231105T080000
END:STANDARD
BEGIN:DAYLIGHT
TZOFFSETFROM:-0700
TZOFFSETTO:-0600
TZNAME:MDT
DTSTART:20240310T090000
END:DAYLIGHT
BEGIN:STANDARD
TZOFFSETFROM:-0600
TZOFFSETTO:-0700
TZNAME:MST
DTSTART:20241103T080000
END:STANDARD
BEGIN:DAYLIGHT
TZOFFSETFROM:-0700
TZOFFSETTO:-0600
TZNAME:MDT
DTSTART:20250309T090000
END:DAYLIGHT
BEGIN:STANDARD
TZOFFSETFROM:-0600
TZOFFSETTO:-0700
TZNAME:MST
DTSTART:20251102T080000
END:STANDARD
BEGIN:DAYLIGHT
TZOFFSETFROM:-0700
TZOFFSETTO:-0600
TZNAME:MDT
DTSTART:20260308T090000
END:DAYLIGHT
BEGIN:STANDARD
TZOFFSETFROM:-0600
TZOFFSETTO:-0700
TZNAME:MST
DTSTART:20261101T080000
END:STANDARD
BEGIN:DAYLIGHT
TZOFFSETFROM:-0700
TZOFFSETTO:-0600
TZNAME:MDT
DTSTART:20270314T090000
END:DAYLIGHT
BEGIN:STANDARD
TZOFFSETFROM:-0600
TZOFFSETTO:-0700
TZNAME:MST
DTSTART:20271107T080000
END:STANDARD
END:VTIMEZONE
BEGIN:VEVENT
DTSTART;TZID=America/Denver:20260124T130000
DTEND;TZID=America/Denver:20260124T160000
DTSTAMP:20260424T073727
CREATED:20230119T173026Z
LAST-MODIFIED:20251119T191626Z
UID:10000245-1769259600-1769270400@idahohighcountry.org
SUMMARY:Poke Fest at Zoo Idaho
DESCRIPTION:Enjoy a warm poked beer by the fire at Zoo Idaho. We are partnering with Off the Rails Brewery to provide this fun winter event at the zoo. We will have fire pits\, music\, and food. You must be 21 years or older to enjoy the beer. Beer Poking is when you caramelize your beer by poking it with a metal rod. It is an old Bavarian tradition.
URL:https://idahohighcountry.org/event/poke-fest-at-zoo-idaho/
LOCATION:Zoo Idaho\, 2900 South 2nd Avenue\, Pocatello\, ID\, 83204\, United States
CATEGORIES:Night Life
ATTACH;FMTTYPE=image/jpeg:https://idahohighcountry.org/wp-content/uploads/poke-fest-zoo-idaho-pocatello.jpg
GEO:42.8423354;-112.4223623
X-APPLE-STRUCTURED-LOCATION;VALUE=URI;X-ADDRESS=Zoo Idaho 2900 South 2nd Avenue Pocatello ID 83204 United States;X-APPLE-RADIUS=500;X-TITLE=2900 South 2nd Avenue:geo:-112.4223623,42.8423354
END:VEVENT
BEGIN:VEVENT
DTSTART;VALUE=DATE:20240622
DTEND;VALUE=DATE:20240623
DTSTAMP:20260424T073727
CREATED:20240301T211935Z
LAST-MODIFIED:20240301T231116Z
UID:10000866-1719014400-1719100799@idahohighcountry.org
SUMMARY:Military Family Day at the Zoo
DESCRIPTION:Free admission for military and veterans and their families sponsored by the National Guard. As a thank you to our service members\, the Zoo is offering free admission all day.
URL:https://idahohighcountry.org/event/military-family-day-zoo-idaho/
LOCATION:Zoo Idaho\, 2900 South 2nd Avenue\, Pocatello\, ID\, 83204\, United States
CATEGORIES:Family Fun
ATTACH;FMTTYPE=image/jpeg:https://idahohighcountry.org/wp-content/uploads/zoo-idaho-free-military-day.jpg
GEO:42.8423354;-112.4223623
X-APPLE-STRUCTURED-LOCATION;VALUE=URI;X-ADDRESS=Zoo Idaho 2900 South 2nd Avenue Pocatello ID 83204 United States;X-APPLE-RADIUS=500;X-TITLE=2900 South 2nd Avenue:geo:-112.4223623,42.8423354
END:VEVENT
BEGIN:VEVENT
DTSTART;VALUE=DATE:20230812
DTEND;VALUE=DATE:20230813
DTSTAMP:20260424T073727
CREATED:20160721T032044Z
LAST-MODIFIED:20230119T173738Z
UID:10000064-1691798400-1691884799@idahohighcountry.org
SUMMARY:Ice Cream Zoofari
DESCRIPTION:Spend a hot summer evening than with an ice cream cone or sundae at the Zoo. Family-friendly entertainment\, zoo animals and all you can eat ice cream! 
URL:https://idahohighcountry.org/event/ice-cream-zoofari/
LOCATION:Zoo Idaho\, 2900 South 2nd Avenue\, Pocatello\, ID\, 83204\, United States
CATEGORIES:Family Fun
ATTACH;FMTTYPE=image/jpeg:https://idahohighcountry.org/wp-content/uploads/zoo-idaho-pocatello-1.jpg
GEO:42.8423354;-112.4223623
X-APPLE-STRUCTURED-LOCATION;VALUE=URI;X-ADDRESS=Zoo Idaho 2900 South 2nd Avenue Pocatello ID 83204 United States;X-APPLE-RADIUS=500;X-TITLE=2900 South 2nd Avenue:geo:-112.4223623,42.8423354
END:VEVENT
END:VCALENDAR