BEGIN:VCALENDAR
VERSION:2.0
PRODID:-//Southeast Idaho High Country - ECPv6.15.20//NONSGML v1.0//EN
CALSCALE:GREGORIAN
METHOD:PUBLISH
X-WR-CALNAME:Southeast Idaho High Country
X-ORIGINAL-URL:https://idahohighcountry.org
X-WR-CALDESC:Events for Southeast Idaho High Country
REFRESH-INTERVAL;VALUE=DURATION:PT1H
X-Robots-Tag:noindex
X-PUBLISHED-TTL:PT1H
BEGIN:VTIMEZONE
TZID:America/Denver
BEGIN:DAYLIGHT
TZOFFSETFROM:-0700
TZOFFSETTO:-0600
TZNAME:MDT
DTSTART:20250309T090000
END:DAYLIGHT
BEGIN:STANDARD
TZOFFSETFROM:-0600
TZOFFSETTO:-0700
TZNAME:MST
DTSTART:20251102T080000
END:STANDARD
BEGIN:DAYLIGHT
TZOFFSETFROM:-0700
TZOFFSETTO:-0600
TZNAME:MDT
DTSTART:20260308T090000
END:DAYLIGHT
BEGIN:STANDARD
TZOFFSETFROM:-0600
TZOFFSETTO:-0700
TZNAME:MST
DTSTART:20261101T080000
END:STANDARD
BEGIN:DAYLIGHT
TZOFFSETFROM:-0700
TZOFFSETTO:-0600
TZNAME:MDT
DTSTART:20270314T090000
END:DAYLIGHT
BEGIN:STANDARD
TZOFFSETFROM:-0600
TZOFFSETTO:-0700
TZNAME:MST
DTSTART:20271107T080000
END:STANDARD
END:VTIMEZONE
BEGIN:VEVENT
DTSTART;VALUE=DATE:20260510
DTEND;VALUE=DATE:20260511
DTSTAMP:20260424T060443
CREATED:20161228T201640Z
LAST-MODIFIED:20250519T230940Z
UID:10000155-1778371200-1778457599@idahohighcountry.org
SUMMARY:Mother's Day at the Zoo
DESCRIPTION:Visit the Zoo animals in the spring when the new babies are being born! Mothers will receive 50% off their admission when they are accompanied by a paid child.
URL:https://idahohighcountry.org/event/mothers-day-zoo/
LOCATION:Zoo Idaho\, 2900 South 2nd Avenue\, Pocatello\, ID\, 83204\, United States
CATEGORIES:Family Fun
ATTACH;FMTTYPE=image/jpeg:https://idahohighcountry.org/wp-content/uploads/zoo-idaho-mothers-day-free.jpg
GEO:42.8423354;-112.4223623
X-APPLE-STRUCTURED-LOCATION;VALUE=URI;X-ADDRESS=Zoo Idaho 2900 South 2nd Avenue Pocatello ID 83204 United States;X-APPLE-RADIUS=500;X-TITLE=2900 South 2nd Avenue:geo:-112.4223623,42.8423354
END:VEVENT
BEGIN:VEVENT
DTSTART;VALUE=DATE:20260530
DTEND;VALUE=DATE:20260531
DTSTAMP:20260424T060443
CREATED:20161228T201640Z
LAST-MODIFIED:20260304T071116Z
UID:10000158-1780099200-1780185599@idahohighcountry.org
SUMMARY:Free Day at the Zoo
DESCRIPTION:As a thank you to our community\, the City of Pocatello and the Zoo are offering free admission all day. Proudly sponsored by Connections Credit Union.
URL:https://idahohighcountry.org/event/free-day-zoo-idaho/
LOCATION:Zoo Idaho\, 2900 South 2nd Avenue\, Pocatello\, ID\, 83204\, United States
CATEGORIES:Family Fun
ATTACH;FMTTYPE=image/jpeg:https://idahohighcountry.org/wp-content/uploads/zoo-idaho-free-day-1.jpg
GEO:42.8423354;-112.4223623
X-APPLE-STRUCTURED-LOCATION;VALUE=URI;X-ADDRESS=Zoo Idaho 2900 South 2nd Avenue Pocatello ID 83204 United States;X-APPLE-RADIUS=500;X-TITLE=2900 South 2nd Avenue:geo:-112.4223623,42.8423354
END:VEVENT
BEGIN:VEVENT
DTSTART;TZID=America/Denver:20260620T180000
DTEND;TZID=America/Denver:20260620T210000
DTSTAMP:20260424T060443
CREATED:20180828T214914Z
LAST-MODIFIED:20260304T071352Z
UID:10000278-1781978400-1781989200@idahohighcountry.org
SUMMARY:Roar & Pour Wine Walk
DESCRIPTION:Head over to the Zoo Idaho for wine tasting\, hors d’oeuvres\, and live music! Tickets include souvenir wine glass\, wine tasting and entrance into Zoo Idaho. Adults only (21+).
URL:https://idahohighcountry.org/event/zoo-roar-pour/
LOCATION:Zoo Idaho\, 2900 South 2nd Avenue\, Pocatello\, ID\, 83204\, United States
CATEGORIES:Leisure,Night Life
ATTACH;FMTTYPE=image/jpeg:https://idahohighcountry.org/wp-content/uploads/zoo-idaho-roar-and-pour-wine.jpg
GEO:42.8423354;-112.4223623
X-APPLE-STRUCTURED-LOCATION;VALUE=URI;X-ADDRESS=Zoo Idaho 2900 South 2nd Avenue Pocatello ID 83204 United States;X-APPLE-RADIUS=500;X-TITLE=2900 South 2nd Avenue:geo:-112.4223623,42.8423354
END:VEVENT
BEGIN:VEVENT
DTSTART;VALUE=DATE:20260621
DTEND;VALUE=DATE:20260622
DTSTAMP:20260424T060443
CREATED:20161228T202638Z
LAST-MODIFIED:20260304T071323Z
UID:10000159-1782000000-1782086399@idahohighcountry.org
SUMMARY:Father's Day at the Zoo
DESCRIPTION:Bring Dad to the Zoo! Fathers will receive 50% off their admission when they are accompanied by a paid child.
URL:https://idahohighcountry.org/event/fathers-day-zoo/
LOCATION:Zoo Idaho\, 2900 South 2nd Avenue\, Pocatello\, ID\, 83204\, United States
CATEGORIES:Family Fun
ATTACH;FMTTYPE=image/jpeg:https://idahohighcountry.org/wp-content/uploads/zoo-idaho-fathers-day-free.jpg
GEO:42.8423354;-112.4223623
X-APPLE-STRUCTURED-LOCATION;VALUE=URI;X-ADDRESS=Zoo Idaho 2900 South 2nd Avenue Pocatello ID 83204 United States;X-APPLE-RADIUS=500;X-TITLE=2900 South 2nd Avenue:geo:-112.4223623,42.8423354
END:VEVENT
BEGIN:VEVENT
DTSTART;TZID=America/Denver:20260718T100000
DTEND;TZID=America/Denver:20260718T140000
DTSTAMP:20260424T060443
CREATED:20161228T201640Z
LAST-MODIFIED:20260304T222900Z
UID:10000157-1784368800-1784383200@idahohighcountry.org
SUMMARY:Enrichment Day at the Zoo
DESCRIPTION:Watch our animals sniff\, stomp\, pounce\, and play with tempting “enrichment” treats designed to exercise their minds and bodies and enhance their overall well-being.
URL:https://idahohighcountry.org/event/enrichment-day-zoo/
LOCATION:Zoo Idaho\, 2900 South 2nd Avenue\, Pocatello\, ID\, 83204\, United States
CATEGORIES:Family Fun
ATTACH;FMTTYPE=image/jpeg:https://idahohighcountry.org/wp-content/uploads/zoo-idaho-enrichment-day.jpg
GEO:42.8423354;-112.4223623
X-APPLE-STRUCTURED-LOCATION;VALUE=URI;X-ADDRESS=Zoo Idaho 2900 South 2nd Avenue Pocatello ID 83204 United States;X-APPLE-RADIUS=500;X-TITLE=2900 South 2nd Avenue:geo:-112.4223623,42.8423354
END:VEVENT
BEGIN:VEVENT
DTSTART;VALUE=DATE:20260906
DTEND;VALUE=DATE:20260907
DTSTAMP:20260424T060443
CREATED:20160721T211620Z
LAST-MODIFIED:20260304T071711Z
UID:10000107-1788652800-1788739199@idahohighcountry.org
SUMMARY:Grandparents' Day at the Zoo
DESCRIPTION:Grandparents will receive 50% off their admission when they are accompanied by a paid child.
URL:https://idahohighcountry.org/event/grandparents-day-zoo/
LOCATION:Zoo Idaho\, 2900 South 2nd Avenue\, Pocatello\, ID\, 83204\, United States
CATEGORIES:Family Fun
ATTACH;FMTTYPE=image/jpeg:https://idahohighcountry.org/wp-content/uploads/zoo-idaho-grandparents-day-free.jpg
GEO:42.8423354;-112.4223623
X-APPLE-STRUCTURED-LOCATION;VALUE=URI;X-ADDRESS=Zoo Idaho 2900 South 2nd Avenue Pocatello ID 83204 United States;X-APPLE-RADIUS=500;X-TITLE=2900 South 2nd Avenue:geo:-112.4223623,42.8423354
END:VEVENT
BEGIN:VEVENT
DTSTART;TZID=America/Denver:20261031T100000
DTEND;TZID=America/Denver:20261031T150000
DTSTAMP:20260424T060443
CREATED:20160721T211800Z
LAST-MODIFIED:20260304T071803Z
UID:10000108-1793440800-1793458800@idahohighcountry.org
SUMMARY:Zoo Boo
DESCRIPTION:Put on your Halloween costumes and come to the Zoo for trick or treating\, costume contests\, games\, crafts\, and more! Dress to impress and enter their costume contest with prizes! This is a not-so-spooky\, safe trick-or-treating atmosphere.
URL:https://idahohighcountry.org/event/zoo-boo/
LOCATION:Zoo Idaho\, 2900 South 2nd Avenue\, Pocatello\, ID\, 83204\, United States
CATEGORIES:Fall & Halloween,Family Fun,Holiday Celebrations
ATTACH;FMTTYPE=image/jpeg:https://idahohighcountry.org/wp-content/uploads/zoo-idaho-zoo-boo-pocatello.jpg
GEO:42.8423354;-112.4223623
X-APPLE-STRUCTURED-LOCATION;VALUE=URI;X-ADDRESS=Zoo Idaho 2900 South 2nd Avenue Pocatello ID 83204 United States;X-APPLE-RADIUS=500;X-TITLE=2900 South 2nd Avenue:geo:-112.4223623,42.8423354
END:VEVENT
END:VCALENDAR